Workbook

Sheet dati 2022
B1: ANNO 2022 (gennaio-dicembre) | F1: Rifiuti plastici (da attività agricole) | G1: Toner per stampa esauriti (ANDROMEDA) | H1: Olio esausto | I1: Imb. Carta e cartone | J1: Imb. In plastica (cassette) | K1: Imb. In plastica | L1: Imballaggi in legno | M1: Imballaggi metallici | N1: Imballaggi compositi | O1: Imb. Mat. Misti | P1: Imb. In vetro | Q1: Imb. Contenenti mat. Pericoloso | R1: Assorbenti, sostanze filtranti, stracci con sostanze pericolose | S1: Assorbenti, materiali filtranti, stracci senza sostanze pericolose | T1: Pneumatici | U1: Filtri olio | V1: RAEE pericolosi | W1: Toner | X1: Toner (senza sostanze periclose) | Y1: Bombole gas | Z1: Batterie al piombo | AA1: cimiteriali casse zinco | AB1: Ferro acciaio | AC1: Metalli misti cimiteriali e non | AD1: Inerti misti | AE1: Plastica (non imballaggi) | AF1: Mat. Cont. Amianto | AG1: Macerie | AH1: Rifiuti cimiteriali | AI1: cassette in plastica da selezione rifiuti in plastica | AJ1: Carta e cartone misti | AK1: Vetro in lastre | AL1: Organico VERCELLI | AM1: 200108 T&R | AN1: 200108 Koster | AO1: Abiti | AP1: Tessili | AQ1: Neon | AR1: Frigoriferi | AS1: Oli vegetali | AT1: Oli minerali | AU1: Vernici, inchiostri, adesivi e resine | AV1: Medicinali | AW1: Batterie e accumulatori | AX1: Pile | AY1: RAEE pericolosi | AZ1: RAEE non pericolosi | BA1: Legno | BB1: Plastica (non imballaggi) | BC1: Metallo | BD1: Rifiuti biodegradabili (verde e ramaglie urbano) | BE1: Cimiteriali | BF1: Cimiteriali non metallici | BG1: Rfiuti urbani | BH1: Rfiuti urbani | BI1: Rifiuti mercatali non organici | BJ1: Rifiuti mercatali organici | BK1: Sabbie spazzamento | BL1: Sabbie spazzamento A RECUPERO | BM1: Fanghi fosse settiche | BN1: Rifiuti pulizia fognanture | BO1: Rifiuti ingombranti (non metallici)
B2: COMUNE | C2: Area omogenea | D2: Abitanti | E2: GESTORE | F2: 020104 | G2: 080318 | H2: 130205 | I2: 150101 | J2: 150102 | K2: 150102 | L2: 150103 | M2: 150104 | N2: 150105 | O2: 150106 | P2: 150107 | Q2: 150110 | R2: 150202 | S2: 150203 | T2: 160103 | U2: 160107 | V2: 160213 | W2: 160215 | X2: 160216 | Y2: 160505 | Z2: 160601 | AA2: 170404 | AB2: 170405 | AC2: 170407 | AD2: 170107 | AE2: 170203 | AF2: 170605 | AG2: 170904 | AH2: 180103 | AI2: 191204 | AJ2: 200101 | AK2: 200102 | AL2: 200108 | AM2: 200108 | AN2: 200108 | AO2: 200110 | AP2: 200111 | AQ2: 200121 | AR2: 200123 | AS2: 200125 | AT2: 200126 | AU2: 200127 | AV2: 200132 | AW2: 200133 | AX2: 200134 | AY2: 200135 | AZ2: 200136 | BA2: 200138 | BB2: 200139 | BC2: 200140 | BD2: 200201 | BE2: 200203 | BF2: 200301 | BG2: 200301 | BH2: 200301 | BI2: 200302 | BJ2: 200302 | BK2: 200303 | BL2: 200303 | BM2: 200304 | BN2: 200306 | BO2: 200307 | BP2: Totale rifiuti conferiti (t)
A3: 1 | B3: ALBANO VERCELLESE | C3: pianura | D3: 309 | E3: RIMECO | F3: 0 | G3: 0 | H3: 0 | I3: 6.116 | J3: 0 | K3: 8.274 | L3: 0 | M3: 0 | N3: 0 | O3: 0 | P3: 12.61 | Q3: 0 | R3: 0 | S3: 0 | T3: 0 | U3: 0 | V3: 0 | W3: 0 | X3: 0 | Y3: 0 | Z3: 0 | AA3: 0 | AB3: 0 | AC3: 0 | AD3: 0 | AE3: 0 | AF3: 0 | AG3: 0 | AH3: 0 | AI3: 0 | AJ3: 7.965 | AK3: 0 | AL3: 0 | AM3: 13.055 | AN3: 3.44 | AO3: 2.83 | AP3: 0 | AQ3: 0.01 | AR3: 0.317 | AS3: 0.011 | AT3: 0 | AU3: 0.03 | AV3: 0.06 | AW3: 0 | AX3: 0.01 | AY3: 0.561 | AZ3: 0.637 | BA3: 0.61 | BB3: 0 | BC3: 0.14 | BD3: 14.44 | BE3: 0 | BF3: 0 | BG3: 48.4687 | BH3: 5.7632 | BI3: 0 | BJ3: 0 | BK3: 2.26 | BL3: 0 | BM3: 0 | BN3: 0 | BO3: 2.082 | BP3: 129.6899
A4: 2 | B4: ALICE CASTELLO | C4: pianura | D4: 2506 | E4: SAN GERMANO SPA | F4: 0 | G4: 0 | H4: 0 | I4: 29.386 | J4: 0 | K4: 58.959 | L4: 0 | M4: 0 | N4: 0 | O4: 0 | P4: 116.9178 | Q4: 0 | R4: 0 | S4: 0 | T4: 1.62 | U4: 0 | V4: 0 | W4: 0 | X4: 0 | Y4: 0 | Z4: 0 | AA4: 0 | AB4: 0 | AC4: 0 | AD4: 0 | AE4: 0 | AF4: 0 | AG4: 0 | AH4: 0 | AI4: 0 | AJ4: 59.657 | AK4: 0 | AL4: 0 | AM4: 108.502 | AN4: 0 | AO4: 21.597 | AP4: 0 | AQ4: 0 | AR4: 1.923 | AS4: 0 | AT4: 0 | AU4: 0 | AV4: 0.069 | AW4: 0.052 | AX4: 0 | AY4: 1.19 | AZ4: 2.681 | BA4: 0 | BB4: 0 | BC4: 0 | BD4: 42.74 | BE4: 0 | BF4: 0 | BG4: 352.0108 | BH4: 39.5398 | BI4: 0 | BJ4: 0 | BK4: 0 | BL4: 0 | BM4: 0 | BN4: 0 | BO4: 16.73 | BP4: 853.7344
A5: 3 | B5: ARBORIO | C5: pianura | D5: 844 | E5: RIMECO | F5: 0 | G5: 0 | H5: 0 | I5: 19.807 | J5: 0 | K5: 25.36 | L5: 0 | M5: 0 | N5: 0 | O5: 0 | P5: 37.053 | Q5: 0 | R5: 0 | S5: 0 | T5: 0.12 | U5: 0 | V5: 0 | W5: 0 | X5: 0.018 | Y5: 0 | Z5: 0 | AA5: 0 | AB5: 0 | AC5: 0 | AD5: 0 | AE5: 0 | AF5: 0 | AG5: 0 | AH5: 0 | AI5: 0 | AJ5: 22.001 | AK5: 0 | AL5: 0 | AM5: 30.8 | AN5: 9.36 | AO5: 6.715 | AP5: 0 | AQ5: 0.01 | AR5: 0.786 | AS5: 0.035 | AT5: 0 | AU5: 0.176 | AV5: 0.003 | AW5: 0.03 | AX5: 0.035 | AY5: 0.415 | AZ5: 0.571 | BA5: 0.82 | BB5: 0 | BC5: 0.1 | BD5: 15.77 | BE5: 0 | BF5: 0 | BG5: 144.027 | BH5: 17.2886 | BI5: 0 | BJ5: 0 | BK5: 5.57 | BL5: 2.5 | BM5: 0 | BN5: 0 | BO5: 8.778 | BP5: 348.1486
A6: 4 | B6: ASIGLIANO VERCELLESE | C6: pianura | D6: 1389 | E6: ASM VERCELLI | F6: 0 | G6: 0.034 | H6: 0 | I6: 10.425 | J6: 2.71 | K6: 34.62 | L6: 0 | M6: 2.56 | N6: 0 | O6: 0 | P6: 62.35 | Q6: 0.004 | R6: 0 | S6: 0 | T6: 0.43 | U6: 0 | V6: 0 | W6: 0 | X6: 0.11 | Y6: 0 | Z6: 0 | AA6: 0 | AB6: 0 | AC6: 0 | AD6: 0 | AE6: 0 | AF6: 0 | AG6: 17.17 | AH6: 0 | AI6: 0 | AJ6: 40.32 | AK6: 0 | AL6: 0 | AM6: 57.42 | AN6: 26.17 | AO6: 19.63 | AP6: 0 | AQ6: 0.001 | AR6: 0 | AS6: 0.01 | AT6: 0.02 | AU6: 0.1 | AV6: 0.06 | AW6: 0.065 | AX6: 0 | AY6: 0 | AZ6: 0.001 | BA6: 28.11 | BB6: 0 | BC6: 0 | BD6: 144.53 | BE6: 0 | BF6: 0 | BG6: 161.688 | BH6: 14.05 | BI6: 0 | BJ6: 0 | BK6: 0 | BL6: 0 | BM6: 0 | BN6: 0 | BO6: 101.54 | BP6: 724.128
A7: 5 | B7: BALOCCO | C7: pianura | D7: 220 | E7: RIMECO | F7: 0 | G7: 0 | H7: 0 | I7: 5.572 | J7: 0 | K7: 10.075 | L7: 0 | M7: 0 | N7: 0 | O7: 0 | P7: 10.591 | Q7: 0 | R7: 0 | S7: 0 | T7: 0.04 | U7: 0 | V7: 0 | W7: 0 | X7: 0 | Y7: 0 | Z7: 0 | AA7: 0 | AB7: 0 | AC7: 0 | AD7: 0 | AE7: 0 | AF7: 0 | AG7: 0.02 | AH7: 0 | AI7: 0 | AJ7: 5.761 | AK7: 0.04 | AL7: 0 | AM7: 8.62 | AN7: 2.55 | AO7: 1.876 | AP7: 0 | AQ7: 0.01 | AR7: 0.665 | AS7: 0.03 | AT7: 0 | AU7: 0.305 | AV7: 0.06 | AW7: 0 | AX7: 0.015 | AY7: 0.737 | AZ7: 0.655 | BA7: 0.23 | BB7: 0 | BC7: 0.07 | BD7: 8.54 | BE7: 0 | BF7: 0 | BG7: 33.2576 | BH7: 3.1737 | BI7: 0 | BJ7: 0 | BK7: 0.28 | BL7: 1.44 | BM7: 0 | BN7: 0 | BO7: 1.025 | BP7: 95.6383
A8: 6 | B8: BIANZE' | C8: pianura | D8: 1848 | E8: ASM VERCELLI | F8: 0 | G8: 0.004 | H8: 0 | I8: 42.48 | J8: 4.3 | K8: 40.39 | L8: 0 | M8: 2.68 | N8: 0 | O8: 0 | P8: 77 | Q8: 0.027 | R8: 0 | S8: 0 | T8: 0 | U8: 0 | V8: 0 | W8: 0 | X8: 0 | Y8: 0 | Z8: 0 | AA8: 0 | AB8: 0 | AC8: 0 | AD8: 0 | AE8: 0 | AF8: 0 | AG8: 0 | AH8: 0 | AI8: 0 | AJ8: 58.57 | AK8: 0 | AL8: 0 | AM8: 89.12 | AN8: 0 | AO8: 16.352 | AP8: 0 | AQ8: 0 | AR8: 0.084 | AS8: 0 | AT8: 0.01 | AU8: 0.043 | AV8: 0.12 | AW8: 0.065 | AX8: 0 | AY8: 0.042 | AZ8: 0.153 | BA8: 2.57 | BB8: 0 | BC8: 0 | BD8: 76.54 | BE8: 0 | BF8: 0 | BG8: 264.525 | BH8: 31.59 | BI8: 0 | BJ8: 0 | BK8: 0 | BL8: 0 | BM8: 0 | BN8: 0 | BO8: 9.212 | BP8: 715.877
A9: 7 | B9: BORGO D'ALE | C9: pianura | D9: 2260 | E9: SAN GERMANO SPA | F9: 0 | G9: 0 | H9: 0 | I9: 30.404 | J9: 0 | K9: 62.371 | L9: 0 | M9: 0 | N9: 0 | O9: 0 | P9: 94.156 | Q9: 0.04 | R9: 0 | S9: 0 | T9: 0 | U9: 0 | V9: 0 | W9: 0 | X9: 0 | Y9: 0 | Z9: 0 | AA9: 0 | AB9: 0 | AC9: 0 | AD9: 0 | AE9: 0 | AF9: 0 | AG9: 0 | AH9: 0 | AI9: 0 | AJ9: 66.636 | AK9: 0 | AL9: 0 | AM9: 104.42 | AN9: 0 | AO9: 18.932 | AP9: 0 | AQ9: 0.003 | AR9: 2.172 | AS9: 0.05 | AT9: 0.1 | AU9: 0.33 | AV9: 0.067 | AW9: 0.08 | AX9: 0 | AY9: 1.223 | AZ9: 1.802 | BA9: 49.16 | BB9: 0 | BC9: 0 | BD9: 0 | BE9: 0 | BF9: 0 | BG9: 333.9344 | BH9: 28.5952 | BI9: 0 | BJ9: 0 | BK9: 0 | BL9: 0 | BM9: 0 | BN9: 0 | BO9: 65.94 | BP9: 860.4156
A10: 8 | B10: BORGOSESIA | C10: pianura | D10: 12250 | F10: 0 | G10: 0 | H10: 0 | I10: 197.67 | J10: 31.62 | K10: 284.192 | L10: 0 | M10: 0 | N10: 0 | O10: 0 | P10: 10.16 | Q10: 0 | R10: 0 | S10: 0 | T10: 8.44 | U10: 0 | V10: 0 | W10: 0 | X10: 0.131 | Y10: 0 | Z10: 0 | AA10: 0 | AB10: 0 | AC10: 0 | AD10: 0 | AE10: 0 | AF10: 0 | AG10: 0 | AH10: 0 | AI10: 0 | AJ10: 436.61 | AK10: 0 | AL10: 0 | AM10: 839.84 | AN10: 0 | AO10: 145.18 | AP10: 0 | AQ10: 0 | AR10: 0 | AS10: 0 | AT10: 0 | AU10: 0 | AV10: 0.711 | AW10: 0 | AX10: 0 | AY10: 0.084 | AZ10: 0 | BA10: 141.5 | BB10: 0 | BC10: 0.005 | BD10: 50.41 | BE10: 0 | BF10: 0 | BG10: 32.21 | BH10: 0 | BI10: 0 | BJ10: 0 | BK10: 35.34 | BL10: 75.26 | BM10: 0 | BN10: 0 | BO10: 149.72 | BP10: 2439.083
A11: 9 | B11: BORGO VERCELLI | C11: pianura | D11: 2228 | E11: ASM VERCELLI | F11: 0 | G11: 0 | H11: 0 | I11: 56.656 | J11: 4.73 | K11: 71.18 | L11: 0 | M11: 3.03 | N11: 0 | O11: 0 | P11: 114.13 | Q11: 0 | R11: 0 | S11: 0 | T11: 0.16 | U11: 0 | V11: 0 | W11: 0 | X11: 0 | Y11: 0 | Z11: 0 | AA11: 0 | AB11: 0 | AC11: 0 | AD11: 0 | AE11: 0 | AF11: 0 | AG11: 21.16 | AH11: 0 | AI11: 0 | AJ11: 110.36 | AK11: 0 | AL11: 0 | AM11: 94.17 | AN11: 47.38 | AO11: 22.32 | AP11: 0 | AQ11: 0 | AR11: 0.742 | AS11: 0.007 | AT11: 0 | AU11: 0 | AV11: 0.237 | AW11: 0 | AX11: 0 | AY11: 0.335 | AZ11: 0.45 | BA11: 21.151 | BB11: 0 | BC11: 0 | BD11: 62.3 | BE11: 0 | BF11: 0 | BG11: 340.573 | BH11: 27.994 | BI11: 0 | BJ11: 0 | BK11: 0.3 | BL11: 0 | BM11: 0 | BN11: 0 | BO11: 22 | BP11: 1021.365
A12: 10 | B12: BURONZO | C12: pianura | D12: 837 | E12: RIMECO | F12: 0 | G12: 0 | H12: 0 | I12: 19.789 | J12: 0 | K12: 22.291 | L12: 0 | M12: 0 | N12: 0 | O12: 0 | P12: 41.505 | Q12: 0 | R12: 0 | S12: 0 | T12: 0.13 | U12: 0 | V12: 0 | W12: 0 | X12: 0.01 | Y12: 0 | Z12: 0 | AA12: 0 | AB12: 0 | AC12: 0 | AD12: 0 | AE12: 0 | AF12: 0 | AG12: 0 | AH12: 0 | AI12: 0 | AJ12: 25.728 | AK12: 0.08 | AL12: 0 | AM12: 28.5 | AN12: 9.52 | AO12: 6.838 | AP12: 0 | AQ12: 0.01 | AR12: 0.875 | AS12: 0.034 | AT12: 0 | AU12: 0.03 | AV12: 0.13 | AW12: 0 | AX12: 0.03 | AY12: 1.13 | AZ12: 0.608 | BA12: 0.29 | BB12: 0 | BC12: 0.03 | BD12: 22.26 | BE12: 0 | BF12: 0 | BG12: 125.4366 | BH12: 12.2387 | BI12: 0 | BJ12: 0 | BK12: 0 | BL12: 0 | BM12: 0 | BN12: 0 | BO12: 2.747 | BP12: 320.2403
A13: 11 | B13: CARESANA | C13: pianura | D13: 1039 | E13: ASM VERCELLI | F13: 0 | G13: 0 | H13: 0 | I13: 11.775 | J13: 1.75 | K13: 19.93 | L13: 0 | M13: 1.2 | N13: 0 | O13: 0 | P13: 36.3 | Q13: 0 | R13: 0 | S13: 0 | T13: 0 | U13: 0 | V13: 0 | W13: 0 | X13: 0 | Y13: 0 | Z13: 0 | AA13: 0 | AB13: 0 | AC13: 0 | AD13: 0 | AE13: 0 | AF13: 0 | AG13: 0 | AH13: 0 | AI13: 0 | AJ13: 25.22 | AK13: 0 | AL13: 0 | AM13: 26.42 | AN13: 14.16 | AO13: 8.21 | AP13: 0 | AQ13: 0.001 | AR13: 1.041 | AS13: 0.01 | AT13: 0 | AU13: 0 | AV13: 0 | AW13: 0 | AX13: 0 | AY13: 0 | AZ13: 0.273 | BA13: 9.28 | BB13: 0 | BC13: 0 | BD13: 53.31 | BE13: 0 | BF13: 0 | BG13: 148.36 | BH13: 11.15 | BI13: 0 | BJ13: 0 | BK13: 4.26 | BL13: 0 | BM13: 0 | BN13: 0 | BO13: 2.28 | BP13: 374.93
A14: 12 | B14: CARESANABLOT | C14: pianura | D14: 1096 | E14: ASM VERCELLI | F14: 0 | G14: 0.004 | H14: 0 | I14: 72.504 | J14: 3.33 | K14: 25.87 | L14: 0 | M14: 1.7 | N14: 0 | O14: 0 | P14: 67.14 | Q14: 0.02 | R14: 0 | S14: 0 | T14: 0.11 | U14: 0 | V14: 0 | W14: 0 | X14: 0.04 | Y14: 0 | Z14: 0 | AA14: 0 | AB14: 0 | AC14: 0 | AD14: 0 | AE14: 0 | AF14: 0 | AG14: 6.11 | AH14: 0 | AI14: 0 | AJ14: 52.08 | AK14: 0 | AL14: 0 | AM14: 45.59 | AN14: 25.75 | AO14: 11.57 | AP14: 0 | AQ14: 0.004 | AR14: 0.376 | AS14: 0.015 | AT14: 0.01 | AU14: 0.008 | AV14: 0.062 | AW14: 0.005 | AX14: 0 | AY14: 0.194 | AZ14: 0.343 | BA14: 13.7 | BB14: 0 | BC14: 0 | BD14: 124.49 | BE14: 0 | BF14: 0 | BG14: 267.05 | BH14: 22.36 | BI14: 0 | BJ14: 0 | BK14: 21.14 | BL14: 10.14 | BM14: 0 | BN14: 0 | BO14: 17.29 | BP14: 789.005
A15: 13 | B15: CARISIO | C15: pianura | D15: 766 | E15: SAN GERMANO SPA | F15: 0 | G15: 0 | H15: 0 | I15: 32.306 | J15: 0 | K15: 34.843 | L15: 0 | M15: 0 | N15: 0 | O15: 0 | P15: 78.55 | Q15: 0.01 | R15: 0 | S15: 0 | T15: 0 | U15: 0 | V15: 0 | W15: 0 | X15: 0 | Y15: 0 | Z15: 0 | AA15: 0 | AB15: 0 | AC15: 0 | AD15: 0 | AE15: 0 | AF15: 0 | AG15: 0 | AH15: 0 | AI15: 0 | AJ15: 32.019 | AK15: 0 | AL15: 0 | AM15: 94.035 | AN15: 0 | AO15: 12.169 | AP15: 0 | AQ15: 0.002 | AR15: 0.91 | AS15: 0.05 | AT15: 0 | AU15: 0.14 | AV15: 0.011 | AW15: 0.14 | AX15: 0 | AY15: 0.292 | AZ15: 1.519 | BA15: 0 | BB15: 0 | BC15: 0 | BD15: 30.86 | BE15: 0 | BF15: 0 | BG15: 103.3582 | BH15: 11.8102 | BI15: 0 | BJ15: 0 | BK15: 0 | BL15: 0 | BM15: 0 | BN15: 0 | BO15: 3.376 | BP15: 436.4004
A16: 14 | B16: CASANOVAELVO | C16: pianura | D16: 223 | E16: SAN GERMANO SPA | F16: 0 | G16: 0 | H16: 0 | I16: 1.243 | J16: 0 | K16: 4.51 | L16: 0 | M16: 0 | N16: 0 | O16: 0 | P16: 9.464 | Q16: 0 | R16: 0 | S16: 0 | T16: 0 | U16: 0 | V16: 0 | W16: 0 | X16: 0 | Y16: 0 | Z16: 0 | AA16: 0 | AB16: 0 | AC16: 0 | AD16: 0 | AE16: 0 | AF16: 0 | AG16: 0.58 | AH16: 0 | AI16: 0 | AJ16: 5.38 | AK16: 0 | AL16: 0 | AM16: 10.366 | AN16: 0 | AO16: 1.27 | AP16: 0 | AQ16: 0 | AR16: 0.263 | AS16: 0 | AT16: 0 | AU16: 0 | AV16: 0.008 | AW16: 0.02 | AX16: 0 | AY16: 0.141 | AZ16: 0.529 | BA16: 0 | BB16: 0 | BC16: 0 | BD16: 12.86 | BE16: 0 | BF16: 0 | BG16: 29.52683 | BH16: 3.4553 | BI16: 0 | BJ16: 0 | BK16: 0 | BL16: 0 | BM16: 0 | BN16: 0 | BO16: 4.7 | BP16: 84.31613
A17: 15 | B17: CIGLIANO | C17: pianura | D17: 4283 | E17: ASM VERCELLI | F17: 0 | G17: 0.13 | H17: 0 | I17: 84.646 | J17: 7.4 | K17: 118.74 | L17: 0 | M17: 6.42 | N17: 0 | O17: 0 | P17: 174.04 | Q17: 0.02 | R17: 0 | S17: 0 | T17: 0 | U17: 0 | V17: 0 | W17: 0 | X17: 0.05 | Y17: 0 | Z17: 0 | AA17: 0 | AB17: 0 | AC17: 0 | AD17: 0 | AE17: 0 | AF17: 0 | AG17: 0 | AH17: 0 | AI17: 0 | AJ17: 125.48 | AK17: 0 | AL17: 0 | AM17: 284.12 | AN17: 0 | AO17: 49.279 | AP17: 0 | AQ17: 0 | AR17: 3.071 | AS17: 0 | AT17: 0 | AU17: 0.52 | AV17: 0.155 | AW17: 0 | AX17: 0 | AY17: 1.677 | AZ17: 4.744 | BA17: 0 | BB17: 0 | BC17: 0 | BD17: 240 | BE17: 0 | BF17: 0 | BG17: 446.365 | BH17: 35.98 | BI17: 0 | BJ17: 0 | BK17: 8.54 | BL17: 1.58 | BM17: 0 | BN17: 0 | BO17: 26.34 | BP17: 1619.297
A18: 16 | B18: COLLOBIANO | C18: pianura | D18: 86 | E18: SAN GERMANO SPA | F18: 0 | G18: 0 | H18: 0 | I18: 1.402 | J18: 0 | K18: 2.678 | L18: 0 | M18: 0 | N18: 0 | O18: 0 | P18: 3.107 | Q18: 0 | R18: 0 | S18: 0 | T18: 0 | U18: 0 | V18: 0 | W18: 0 | X18: 0 | Y18: 0 | Z18: 0 | AA18: 0 | AB18: 0 | AC18: 0 | AD18: 0 | AE18: 0 | AF18: 0 | AG18: 0 | AH18: 0 | AI18: 0 | AJ18: 2.714 | AK18: 0 | AL18: 0 | AM18: 5.179 | AN18: 0 | AO18: 0.694 | AP18: 0 | AQ18: 0 | AR18: 0.094 | AS18: 0 | AT18: 0 | AU18: 0 | AV18: 0 | AW18: 0.02 | AX18: 0 | AY18: 0 | AZ18: 0 | BA18: 0 | BB18: 0 | BC18: 0 | BD18: 5.06 | BE18: 0 | BF18: 0 | BG18: 12.51513 | BH18: 1.1521 | BI18: 0 | BJ18: 0 | BK18: 0 | BL18: 0 | BM18: 0 | BN18: 0 | BO18: 0.49 | BP18: 35.10523
A19: 17 | B19: COSTANZANA | C19: pianura | D19: 748 | E19: ASM VERCELLI | F19: 0 | G19: 0 | H19: 0 | I19: 6.995 | J19: 1.45 | K19: 16.72 | L19: 0 | M19: 0.98 | N19: 0 | O19: 0 | P19: 27.74 | Q19: 0 | R19: 0 | S19: 0 | T19: 2.9 | U19: 0 | V19: 0 | W19: 0 | X19: 0 | Y19: 0 | Z19: 0 | AA19: 0 | AB19: 0 | AC19: 0 | AD19: 0 | AE19: 0 | AF19: 0 | AG19: 0.02 | AH19: 0 | AI19: 0 | AJ19: 21.74 | AK19: 0 | AL19: 0 | AM19: 35.17 | AN19: 0 | AO19: 6.7 | AP19: 0 | AQ19: 0 | AR19: 0.15 | AS19: 0.02 | AT19: 0 | AU19: 0 | AV19: 0 | AW19: 0.04 | AX19: 0 | AY19: 0.12 | AZ19: 0.09 | BA19: 3.8 | BB19: 0 | BC19: 0 | BD19: 63.52 | BE19: 0 | BF19: 0 | BG19: 98.328 | BH19: 9.97 | BI19: 0 | BJ19: 0 | BK19: 1.56 | BL19: 1.75 | BM19: 0 | BN19: 0 | BO19: 5.27 | BP19: 305.033
A20: 18 | B20: CRESCENTINO | C20: pianura | D20: 7611 | E20: ASM VERCELLI | F20: 0 | G20: 0.065 | H20: 0 | I20: 74.312 | J20: 12.96 | K20: 140.19 | L20: 0 | M20: 9.24 | N20: 0 | O20: 0 | P20: 304.61 | Q20: 0.186 | R20: 0 | S20: 0 | T20: 0 | U20: 0 | V20: 0 | W20: 0 | X20: 0.088 | Y20: 0 | Z20: 0 | AA20: 0 | AB20: 0 | AC20: 0 | AD20: 0 | AE20: 0 | AF20: 0 | AG20: 0 | AH20: 0 | AI20: 0 | AJ20: 193.672 | AK20: 4.29 | AL20: 0 | AM20: 447.17 | AN20: 0 | AO20: 76.73 | AP20: 0 | AQ20: 0.192 | AR20: 1.742 | AS20: 0.451 | AT20: 0.612 | AU20: 1.272 | AV20: 1.349 | AW20: 0.708 | AX20: 0 | AY20: 0.725 | AZ20: 1.158 | BA20: 123.78 | BB20: 0 | BC20: 0 | BD20: 363.95 | BE20: 0 | BF20: 0 | BG20: 979.522 | BH20: 79.26 | BI20: 0 | BJ20: 0 | BK20: 8.32 | BL20: 0 | BM20: 0 | BN20: 0 | BO20: 178.2 | BP20: 3004.754
A21: 19 | B21: CROVA | C21: pianura | D21: 394 | E21: SAN GERMANO SPA | F21: 0 | G21: 0 | H21: 0 | I21: 3.26 | J21: 0 | K21: 11.374 | L21: 0 | M21: 0 | N21: 0 | O21: 0 | P21: 24.286 | Q21: 0 | R21: 0 | S21: 0 | T21: 0 | U21: 0 | V21: 0 | W21: 0 | X21: 0 | Y21: 0 | Z21: 0 | AA21: 0 | AB21: 0 | AC21: 0 | AD21: 0 | AE21: 0 | AF21: 0 | AG21: 0 | AH21: 0 | AI21: 0 | AJ21: 14.643 | AK21: 0 | AL21: 0 | AM21: 12.097 | AN21: 0 | AO21: 2.215 | AP21: 0 | AQ21: 0 | AR21: 0.12 | AS21: 0 | AT21: 0 | AU21: 0 | AV21: 0.008 | AW21: 0.02 | AX21: 0 | AY21: 0.06 | AZ21: 0.097 | BA21: 0 | BB21: 0 | BC21: 0 | BD21: 14.63 | BE21: 0 | BF21: 0 | BG21: 41.4479 | BH21: 4.749 | BI21: 0 | BJ21: 0 | BK21: 0 | BL21: 0 | BM21: 0 | BN21: 0 | BO21: 0.657 | BP21: 129.6639
A22: 20 | B22: DESANA | C22: pianura | D22: 1061 | E22: ASM VERCELLI | F22: 0 | G22: 0 | H22: 0 | I22: 9.806 | J22: 2.18 | K22: 26.61 | L22: 0 | M22: 1.31 | N22: 0 | O22: 0 | P22: 52.27 | Q22: 0.014 | R22: 0 | S22: 0 | T22: 0.09 | U22: 0 | V22: 0 | W22: 0 | X22: 0 | Y22: 0 | Z22: 0 | AA22: 0 | AB22: 0 | AC22: 0 | AD22: 0 | AE22: 0 | AF22: 0 | AG22: 5.16 | AH22: 0 | AI22: 0 | AJ22: 36.93 | AK22: 0 | AL22: 0 | AM22: 49.39 | AN22: 0 | AO22: 9 | AP22: 0 | AQ22: 0.001 | AR22: 0 | AS22: 0.02 | AT22: 0 | AU22: 0 | AV22: 0.083 | AW22: 0.03 | AX22: 0 | AY22: 0 | AZ22: 0.762 | BA22: 3.21 | BB22: 0 | BC22: 0 | BD22: 63.18 | BE22: 0 | BF22: 0 | BG22: 146.383 | BH22: 16.2 | BI22: 0 | BJ22: 0 | BK22: 0.28 | BL22: 0 | BM22: 0 | BN22: 0 | BO22: 16.38 | BP22: 439.289
... A58: 56 | B58: VARALLO | C58: pianura | D58: 6931 | E58: RIMECO | F58: 0 | G58: 0 | H58: 0 | I58: 204.06 | J58: 12.088 | K58: 138.551 | L58: 33.767 | M58: 5.09 | N58: 0 | O58: 0 | P58: 320.978 | Q58: 0 | R58: 0 | S58: 0 | T58: 18.009 | U58: 0 | V58: 0 | W58: 0 | X58: 0.262 | Y58: 0 | Z58: 0 | AA58: 0 | AB58: 0 | AC58: 0 | AD58: 0 | AE58: 0 | AF58: 0 | AG58: 120.342 | AH58: 0 | AI58: 0 | AJ58: 224.31 | AK58: 17.615 | AL58: 0 | AM58: 362.46 | AN58: 31.58 | AO58: 128.84 | AP58: 0 | AQ58: 0.268 | AR58: 14.97 | AS58: 1.187 | AT58: 0.727 | AU58: 2.144 | AV58: 3.516 | AW58: 2.522 | AX58: 0.356 | AY58: 47.652 | AZ58: 0 | BA58: 249.803 | BB58: 0 | BC58: 39.811 | BD58: 327.09 | BE58: 0 | BF58: 0 | BG58: 1055.709 | BH58: 117.714 | BI58: 0 | BJ58: 0 | BK58: 56.79 | BL58: 8.74 | BM58: 0 | BN58: 0 | BO58: 176.474 | BP58: 3794.944
A59: 57 | B59: VERCELLI | C59: pianura | D59: 45425 | F59: 0 | G59: 0 | H59: 0 | I59: 0 | J59: 0 | K59: 0 | L59: 0 | M59: 0 | N59: 0 | O59: 0 | P59: 0 | Q59: 0 | R59: 0 | S59: 0 | T59: 0 | U59: 0 | V59: 0 | W59: 0 | X59: 0 | Y59: 0 | Z59: 0 | AA59: 0 | AB59: 0 | AC59: 0 | AD59: 0 | AE59: 0 | AF59: 0 | AG59: 0 | AH59: 0 | AI59: 0 | AJ59: 0 | AK59: 0 | AL59: 0 | AM59: 0 | AN59: 0 | AO59: 31.11 | AP59: 0 | AQ59: 0 | AR59: 0 | AS59: 0 | AT59: 0 | AU59: 0 | AV59: 0 | AW59: 0 | AX59: 0 | AY59: 0 | AZ59: 0 | BA59: 0 | BB59: 0 | BC59: 0 | BD59: 0 | BE59: 0 | BF59: 0 | BG59: 0 | BH59: 0 | BI59: 0 | BJ59: 0 | BK59: 0 | BL59: 0 | BM59: 0 | BN59: 0 | BO59: 0 | BP59: 31.11
A60: 58 | B60: VILLARBOIT | C60: pianura | D60: 398 | E60: RIMECO | F60: 0 | G60: 0 | H60: 0 | I60: 7.733 | J60: 0 | K60: 12.789 | L60: 0 | M60: 0 | N60: 0 | O60: 0 | P60: 17.401 | Q60: 0 | R60: 0 | S60: 0 | T60: 0.01 | U60: 0 | V60: 0 | W60: 0 | X60: 0.03 | Y60: 0 | Z60: 0 | AA60: 0 | AB60: 0 | AC60: 0 | AD60: 0 | AE60: 0 | AF60: 0 | AG60: 0 | AH60: 0 | AI60: 0 | AJ60: 10.952 | AK60: 0.02 | AL60: 0 | AM60: 14.965 | AN60: 4.79 | AO60: 3.575 | AP60: 0 | AQ60: 0.01 | AR60: 0.577 | AS60: 0.045 | AT60: 0 | AU60: 0.02 | AV60: 0.08 | AW60: 0 | AX60: 0.01 | AY60: 0.581 | AZ60: 0.218 | BA60: 0.27 | BB60: 0 | BC60: 0.06 | BD60: 0 | BE60: 0 | BF60: 0 | BG60: 68.5894 | BH60: 8.3234 | BI60: 0 | BJ60: 0 | BK60: 0 | BL60: 0 | BM60: 0 | BN60: 0 | BO60: 1.904 | BP60: 152.9528
A61: 59 | B61: ALAGNA VALSESIA | C61: montana | D61: 725 | E61: RIMECO | F61: 0 | G61: 0 | H61: 0 | I61: 54.16 | J61: 1.77 | K61: 27.14 | L61: 1.27 | M61: 0 | N61: 0 | O61: 0 | P61: 183.55 | Q61: 0 | R61: 0 | S61: 0 | T61: 0.48 | U61: 0 | V61: 0 | W61: 0 | X61: 0.005 | Y61: 0 | Z61: 0 | AA61: 0 | AB61: 0 | AC61: 0 | AD61: 0 | AE61: 0 | AF61: 0 | AG61: 1.45 | AH61: 0 | AI61: 0 | AJ61: 40.1 | AK61: 0.37 | AL61: 0 | AM61: 41.58 | AN61: 4.24 | AO61: 7.41 | AP61: 0 | AQ61: 0 | AR61: 1.15 | AS61: 0.02 | AT61: 0 | AU61: 0.01 | AV61: 0.095 | AW61: 0.21 | AX61: 0.077 | AY61: 4.325 | AZ61: 0 | BA61: 19.94 | BB61: 0 | BC61: 6.945 | BD61: 2.455 | BE61: 0 | BF61: 0 | BG61: 261.32 | BH61: 49.29 | BI61: 0 | BJ61: 0 | BK61: 0 | BL61: 0 | BM61: 0 | BN61: 0 | BO61: 29.635 | BP61: 748.877
A62: 60 | B62: ALTO SERMENZA | C62: montana | D62: 149 | E62: RIMECO | F62: 0 | G62: 0 | H62: 0 | I62: 1.815 | J62: 0.55 | K62: 6.91 | L62: 0.41 | M62: 0 | N62: 0 | O62: 0 | P62: 21.33 | Q62: 0 | R62: 0 | S62: 0 | T62: 0.6 | U62: 0 | V62: 0 | W62: 0 | X62: 0 | Y62: 0 | Z62: 0 | AA62: 0 | AB62: 0 | AC62: 0 | AD62: 0 | AE62: 0 | AF62: 0 | AG62: 1.509 | AH62: 0 | AI62: 0 | AJ62: 10.38 | AK62: 0 | AL62: 0 | AM62: 0.54 | AN62: 0 | AO62: 0 | AP62: 0 | AQ62: 0 | AR62: 0.25 | AS62: 0.022 | AT62: 0 | AU62: 0 | AV62: 0.11 | AW62: 0.06 | AX62: 0.24 | AY62: 0.37 | AZ62: 0 | BA62: 2 | BB62: 0 | BC62: 2.165 | BD62: 1.46 | BE62: 0 | BF62: 0 | BG62: 52.19 | BH62: 13.586 | BI62: 0 | BJ62: 0 | BK62: 0 | BL62: 0 | BM62: 0 | BN62: 0 | BO62: 6.7 | BP62: 123.787
A63: 61 | B63: BALMUCCIA | C63: montana | D63: 117 | E63: RIMECO | F63: 0 | G63: 0 | H63: 0 | I63: 0.835 | J63: 0.26 | K63: 2.812 | L63: 0.38 | M63: 0.04 | N63: 0 | O63: 0 | P63: 9.075 | Q63: 0 | R63: 0 | S63: 0 | T63: 0.06 | U63: 0 | V63: 0 | W63: 0 | X63: 0.002 | Y63: 0 | Z63: 0 | AA63: 0 | AB63: 0 | AC63: 0 | AD63: 0 | AE63: 0 | AF63: 0 | AG63: 0.705 | AH63: 0 | AI63: 0 | AJ63: 5.358 | AK63: 0.04 | AL63: 0 | AM63: 2.71 | AN63: 0.22 | AO63: 0.3 | AP63: 0 | AQ63: 0.005 | AR63: 0.28 | AS63: 0.026 | AT63: 0 | AU63: 0.03 | AV63: 0.03 | AW63: 0 | AX63: 0.046 | AY63: 0.85 | AZ63: 0 | BA63: 3.83 | BB63: 0 | BC63: 1.14 | BD63: 0.83 | BE63: 0 | BF63: 0 | BG63: 7.87 | BH63: 1.72 | BI63: 0 | BJ63: 0 | BK63: 0 | BL63: 0 | BM63: 0 | BN63: 0 | BO63: 3.89 | BP63: 43.914
A64: 62 | B64: BOCCIOLETO | C64: montana | D64: 160 | E64: RIMECO | F64: 0 | G64: 0 | H64: 0 | I64: 0.57 | J64: 0.47 | K64: 5.91 | L64: 0.14 | M64: 0 | N64: 0 | O64: 0 | P64: 11.2 | Q64: 0 | R64: 0 | S64: 0 | T64: 0.51 | U64: 0 | V64: 0 | W64: 0 | X64: 0 | Y64: 0 | Z64: 0 | AA64: 0 | AB64: 0 | AC64: 0 | AD64: 0 | AE64: 0 | AF64: 0 | AG64: 0.45 | AH64: 0 | AI64: 0 | AJ64: 8.21 | AK64: 0.16 | AL64: 0 | AM64: 0 | AN64: 0 | AO64: 0 | AP64: 0 | AQ64: 0 | AR64: 0.45 | AS64: 0.02 | AT64: 0 | AU64: 0.005 | AV64: 0.005 | AW64: 0 | AX64: 0.002 | AY64: 0.65 | AZ64: 0 | BA64: 7.035 | BB64: 0 | BC64: 0.435 | BD64: 1.4 | BE64: 0 | BF64: 0 | BG64: 42.72 | BH64: 11 | BI64: 0 | BJ64: 0 | BK64: 0 | BL64: 0 | BM64: 0 | BN64: 0 | BO64: 7.96 | BP64: 101.497
A65: 63 | B65: CAMPERTOGNO | C65: montana | D65: 214 | E65: RIMECO | F65: 0 | G65: 0 | H65: 0 | I65: 5.195 | J65: 0.47 | K65: 6.59 | L65: 0.48 | M65: 0 | N65: 0 | O65: 0 | P65: 22.55 | Q65: 0 | R65: 0 | S65: 0 | T65: 1.91 | U65: 0 | V65: 0 | W65: 0 | X65: 0 | Y65: 0 | Z65: 0 | AA65: 0 | AB65: 0 | AC65: 0 | AD65: 0 | AE65: 0 | AF65: 0 | AG65: 0.73 | AH65: 0 | AI65: 0 | AJ65: 8.44 | AK65: 0.05 | AL65: 0 | AM65: 16.1 | AN65: 1.55 | AO65: 2.89 | AP65: 0 | AQ65: 0.001 | AR65: 0.25 | AS65: 0.06 | AT65: 0 | AU65: 0.025 | AV65: 0 | AW65: 0.07 | AX65: 0 | AY65: 0.535 | AZ65: 0 | BA65: 4.965 | BB65: 0 | BC65: 2.825 | BD65: 0.97 | BE65: 0 | BF65: 0 | BG65: 84.55 | BH65: 15.96 | BI65: 0 | BJ65: 0 | BK65: 0 | BL65: 0 | BM65: 0 | BN65: 0 | BO65: 8.845 | BP65: 186.941
A66: 64 | B66: CARCOFORO | C66: montana | D66: 73 | E66: RIMECO | F66: 0 | G66: 0 | H66: 0 | I66: 0 | J66: 0.12 | K66: 1.65 | L66: 0 | M66: 0 | N66: 0 | O66: 0 | P66: 4.75 | Q66: 0 | R66: 0 | S66: 0 | T66: 0.27 | U66: 0 | V66: 0 | W66: 0 | X66: 0 | Y66: 0 | Z66: 0 | AA66: 0 | AB66: 0 | AC66: 0 | AD66: 0 | AE66: 0 | AF66: 0 | AG66: 0.03 | AH66: 0 | AI66: 0 | AJ66: 2.67 | AK66: 0 | AL66: 0 | AM66: 0 | AN66: 0 | AO66: 0 | AP66: 0 | AQ66: 0 | AR66: 0.4 | AS66: 0 | AT66: 0 | AU66: 0 | AV66: 0 | AW66: 0 | AX66: 0.035 | AY66: 0.075 | AZ66: 0 | BA66: 2.89 | BB66: 0 | BC66: 1.82 | BD66: 0.71 | BE66: 0 | BF66: 0 | BG66: 23.67 | BH66: 5.45 | BI66: 0 | BJ66: 0 | BK66: 0 | BL66: 0 | BM66: 0 | BN66: 0 | BO66: 6.02 | BP66: 50.56
A67: 65 | B67: CELLIO con BREIA | C67: montana | D67: 941 | E67: RIMECO | F67: 0 | G67: 0 | H67: 0 | I67: 6.03 | J67: 2.41 | K67: 23.215 | L67: 0.57 | M67: 0 | N67: 0 | O67: 0 | P67: 56.825 | Q67: 0 | R67: 0 | S67: 0 | T67: 0.555 | U67: 0 | V67: 0 | W67: 0 | X67: 0.015 | Y67: 0 | Z67: 0 | AA67: 0 | AB67: 0 | AC67: 0 | AD67: 0 | AE67: 0 | AF67: 0 | AG67: 6.39 | AH67: 0 | AI67: 0 | AJ67: 34.025 | AK67: 0.555 | AL67: 0 | AM67: 31.03 | AN67: 2.21 | AO67: 5.28 | AP67: 0 | AQ67: 0.012 | AR67: 1.06 | AS67: 0.121 | AT67: 0.092 | AU67: 0.325 | AV67: 0.1 | AW67: 0.32 | AX67: 0.092 | AY67: 2.88 | AZ67: 0 | BA67: 16.055 | BB67: 0 | BC67: 2 | BD67: 2.8 | BE67: 0 | BF67: 0 | BG67: 185.58 | BH67: 33.75 | BI67: 0 | BJ67: 0 | BK67: 0 | BL67: 0 | BM67: 0 | BN67: 0 | BO67: 9.575 | BP67: 428.277
A68: 66 | B68: CERVATTO | C68: montana | D68: 52 | E68: RIMECO | F68: 0 | G68: 0 | H68: 0 | I68: 0 | J68: 0.18 | K68: 2.302 | L68: 0 | M68: 0 | N68: 0 | O68: 0 | P68: 2.87 | Q68: 0 | R68: 0 | S68: 0 | T68: 0 | U68: 0 | V68: 0 | W68: 0 | X68: 0 | Y68: 0 | Z68: 0 | AA68: 0 | AB68: 0 | AC68: 0 | AD68: 0 | AE68: 0 | AF68: 0 | AG68: 0.02 | AH68: 0 | AI68: 0 | AJ68: 4.12 | AK68: 0 | AL68: 0 | AM68: 0 | AN68: 0 | AO68: 0 | AP68: 0 | AQ68: 0 | AR68: 0 | AS68: 0 | AT68: 0.025 | AU68: 0.02 | AV68: 0 | AW68: 0 | AX68: 0 | AY68: 0.175 | AZ68: 0 | BA68: 0.04 | BB68: 0 | BC68: 0.035 | BD68: 0.8 | BE68: 0 | BF68: 0 | BG68: 20.87 | BH68: 5.2 | BI68: 0 | BJ68: 0 | BK68: 0 | BL68: 0 | BM68: 0 | BN68: 0 | BO68: 2.014 | BP68: 38.671
A69: 67 | B69: CIVIASCO | C69: montana | D69: 239 | E69: RIMECO | F69: 0 | G69: 0 | H69: 0 | I69: 1.485 | J69: 0.42 | K69: 6.17 | L69: 0.72 | M69: 0.18 | N69: 0 | O69: 0 | P69: 12.6 | Q69: 0 | R69: 0 | S69: 0 | T69: 0.775 | U69: 0 | V69: 0 | W69: 0 | X69: 0.015 | Y69: 0 | Z69: 0 | AA69: 0 | AB69: 0 | AC69: 0 | AD69: 0 | AE69: 0 | AF69: 0 | AG69: 2.875 | AH69: 0 | AI69: 0 | AJ69: 7.06 | AK69: 0.11 | AL69: 0 | AM69: 0.54 | AN69: 0.02 | AO69: 0.03 | AP69: 0 | AQ69: 0 | AR69: 0.7 | AS69: 0.033 | AT69: 0 | AU69: 0.117 | AV69: 0.11 | AW69: 0.025 | AX69: 0 | AY69: 1.58 | AZ69: 0 | BA69: 6.125 | BB69: 0 | BC69: 1.39 | BD69: 0.83 | BE69: 0 | BF69: 0 | BG69: 23.33 | BH69: 3.96 | BI69: 0 | BJ69: 0 | BK69: 0 | BL69: 0 | BM69: 0 | BN69: 0 | BO69: 3.87 | BP69: 77.34
A70: 68 | B70: CRAVAGLIANA | C70: montana | D70: 252 | E70: RIMECO | F70: 0 | G70: 0 | H70: 0 | I70: 1.445 | J70: 0.54 | K70: 6.78 | L70: 0.11 | M70: 0 | N70: 0 | O70: 0 | P70: 28.26 | Q70: 0 | R70: 0 | S70: 0 | T70: 1.34 | U70: 0 | V70: 0 | W70: 0 | X70: 0 | Y70: 0 | Z70: 0 | AA70: 0 | AB70: 0 | AC70: 0 | AD70: 0 | AE70: 0 | AF70: 0 | AG70: 3.42 | AH70: 0 | AI70: 0 | AJ70: 10.93 | AK70: 0.19 | AL70: 0 | AM70: 0 | AN70: 0 | AO70: 0 | AP70: 0 | AQ70: 0.01 | AR70: 1.03 | AS70: 0 | AT70: 0.02 | AU70: 0 | AV70: 0.025 | AW70: 0.099 | AX70: 0.01 | AY70: 1.565 | AZ70: 0 | BA70: 7.865 | BB70: 0 | BC70: 2.495 | BD70: 1.41 | BE70: 0 | BF70: 0 | BG70: 49.67 | BH70: 13.07 | BI70: 0 | BJ70: 0 | BK70: 0 | BL70: 0 | BM70: 0 | BN70: 0 | BO70: 6.51 | BP70: 137.594
A71: 69 | B71: FOBELLO | C71: montana | D71: 185 | E71: RIMECO | F71: 0 | G71: 0 | H71: 0 | I71: 2.465 | J71: 0.3 | K71: 3.74 | L71: 0.39 | M71: 0 | N71: 0 | O71: 0 | P71: 25.838 | Q71: 0 | R71: 0 | S71: 0 | T71: 0.14 | U71: 0 | V71: 0 | W71: 0 | X71: 0 | Y71: 0 | Z71: 0 | AA71: 0 | AB71: 0 | AC71: 0 | AD71: 0 | AE71: 0 | AF71: 0 | AG71: 0.63 | AH71: 0 | AI71: 0 | AJ71: 6.8 | AK71: 0.57 | AL71: 0 | AM71: 0 | AN71: 0 | AO71: 0 | AP71: 0 | AQ71: 0 | AR71: 0.75 | AS71: 0.01 | AT71: 0 | AU71: 0.16 | AV71: 0 | AW71: 0.01 | AX71: 0.001 | AY71: 2.28 | AZ71: 0 | BA71: 8.87 | BB71: 0 | BC71: 2.815 | BD71: 1.07 | BE71: 0 | BF71: 0 | BG71: 39 | BH71: 9.88 | BI71: 0 | BJ71: 0 | BK71: 0 | BL71: 0 | BM71: 0 | BN71: 0 | BO71: 8.248 | BP71: 116.977
... A83: 81 | B83: VOCCA | C83: montana | D83: 158 | E83: RIMECO | F83: 0 | G83: 0 | H83: 0 | I83: 0.003 | J83: 0.23 | K83: 2.99 | L83: 0.07 | M83: 0 | N83: 0 | O83: 0 | P83: 7.03 | Q83: 0 | R83: 0 | S83: 0 | T83: 0.195 | U83: 0 | V83: 0 | W83: 0 | X83: 0 | Y83: 0 | Z83: 0 | AA83: 0 | AB83: 0 | AC83: 0 | AD83: 0 | AE83: 0 | AF83: 0 | AG83: 1.645 | AH83: 0 | AI83: 0 | AJ83: 4.16 | AK83: 0.11 | AL83: 0 | AM83: 1.63 | AN83: 0.35 | AO83: 0.45 | AP83: 0 | AQ83: 0.005 | AR83: 0.36 | AS83: 0.031 | AT83: 0.08 | AU83: 0.01 | AV83: 0 | AW83: 0.095 | AX83: 0 | AY83: 0.965 | AZ83: 0 | BA83: 7.31 | BB83: 0 | BC83: 1.775 | BD83: 0.81 | BE83: 0 | BF83: 0 | BG83: 15.83 | BH83: 4.3 | BI83: 0 | BJ83: 0 | BK83: 0 | BL83: 0 | BM83: 0 | BN83: 0 | BO83: 2.465 | BP83: 55.569
B84: Totale | D84: 165067 | E84: 0 | F84: =SUM(F3:F83) -> 0 | G84: =SUM(G3:G83) -> 0.351 | H84: =SUM(H3:H83) -> 0 | I84: =SUM(I3:I83) -> 2178.311 | J84: =SUM(J3:J83) -> 168.52 | K84: =SUM(K3:K83) -> 2876.126 | L84: =SUM(L3:L83) -> 70.52 | M84: =SUM(M3:M83) -> 69.92 | ... BP84: =SUM(BP3:BP83) -> 49750.889

Sheet calcoli
B1: Comune | C1: Pr Residenti 2020 | D1: RT Rifiuti Totali (t/a) (RU+RD) | E1: RU Rifiuti Urbani Indifferenziati (t/a) | F1: RD Raccolte Differenziate (t/a) | G1: % di RD (RD/RT) | H1: RT pro capite (Kg/ab*g) | I1: RU pro capite rifiuti destinati allo smaltimento (Kg/ab*g) | J1: RD pro capite (Kg/ab*g) | K1: Compo-staggio Dome- Stico Kg | L1: Frazione Organica (t/a) | M1: Sfalci e potature (t/a) | N1: Carta e Cartone (t/a) | O1: Plastica (t/a) | P1: Legno (t/a) | Q1: Metalli e contenitori metallici (t/a) | R1: Multimatriale (t/a) | S1: Vetro (t/a) | T1: Tessili (t/a) | U1: Ingombranti e RAEE avviati a recupero (t/a) | V1: Rifiuti da C&D | W1: sabbie da spazzamento stradale a recupero | X1: Altre RD
B2: ALBANO VERCELLESE | C2: 309 | D2: =+E2+F2 -> 129.6899 | E2: =+'dati 2022'!BG3+'dati 2022'!BH3 -> 54.2319 | F2: =+K2+L2+M2+N2+O2+P2+Q2+R2+S2+T2+U2+V2+W2+X2 -> 75.458 | G2: =+F2/D2 -> 0.58183405 | H2: =+((D2*1000)/C2)/365 -> 1.1498861 | I2: =+((E2*1000)/C2)/365 -> 0.4808432 | J2: =+((F2*1000)/C2)/365 -> 0.66904287 | K2: 0 | L2: =+'dati 2022'!AL3+'dati 2022'!AM3+'dati 2022'!AN3 -> 16.495 | M2: =+'dati 2022'!BD3 -> 14.44 | N2: =+'dati 2022'!I3+'dati 2022'!AJ3 -> 14.081 | O2: =+'dati 2022'!J3+'dati 2022'!K3 -> 8.274 | P2: =+'dati 2022'!L3+'dati 2022'!BA3 -> 0.61 | Q2: =+'dati 2022'!M3+'dati 2022'!BC3 -> 0.14 | R2: =+'dati 2022'!O3 -> 0 | S2: =+'dati 2022'!P3+'dati 2022'!AK3 -> 12.61 | T2: =+'dati 2022'!AO3+'dati 2022'!AP3 -> 2.83 | U2: =+'dati 2022'!BO3+'dati 2022'!AY3+'dati 2022'!AZ3+'dati 2022'!AQ3+'dati 2022'!AR3+'dati 2022'!V3 -> 3.607 | V2: =+'dati 2022'!AG3 -> 0 | W2: =+'dati 2022'!BK3+'dati 2022'!BL3 -> 2.26 | X2: =+'dati 2022'!G3+'dati 2022'!Q3+'dati 2022'!T3+'dati 2022'!X3+'dati 2022'!AS3+'dati 2022'!AU3+'dati 2022'!AV3+'dati 2022'!AW3+'dati 2022'!AX3+'dati 2022'!AT3 -> 0.111 | Y2: {=+SUM('dati 2022'!F3:BE3+'dati 2022'!BJ3+'dati 2022'!BK3+'dati 2022'!BL3+'dati 2022'!BM3+'dati 2022'!BN3+'dati 2022'!BO39)} -> 513.116 | Z2: =+SUM(L2:W2) -> 75.347 | AA2: =+Y2-Z2 -> 437.769
B3: ALICE CASTELLO | C3: 2506 | D3: =+E3+F3 -> 853.5744 | E3: =+'dati 2022'!BG4+'dati 2022'!BH4 -> 391.5506 | F3: =+K3+L3+M3+N3+O3+P3+Q3+R3+S3+T3+U3+V3+W3+X3 -> 462.0238 | G3: =+F3/D3 -> 0.54128123 | H3: =+((D3*1000)/C3)/365 -> 0.93318436 | I3: =+((E3*1000)/C3)/365 -> 0.42806918 | J3: =+((F3*1000)/C3)/365 -> 0.50511518 | K3: 0 | L3: =+'dati 2022'!AL4+'dati 2022'!AM4+'dati 2022'!AN4 -> 108.502 | M3: =+'dati 2022'!BD4 -> 42.74 | N3: =+'dati 2022'!I4+'dati 2022'!AJ4 -> 89.043 | O3: =+'dati 2022'!J4+'dati 2022'!K4 -> 58.959 | P3: =+'dati 2022'!L4+'dati 2022'!BA4 -> 0 | Q3: =+'dati 2022'!M4+'dati 2022'!BC4 -> 0 | R3: =+'dati 2022'!O4 -> 0 | S3: =+'dati 2022'!P4+'dati 2022'!AK4 -> 116.9178 | T3: =+'dati 2022'!AO4+'dati 2022'!AP4 -> 21.597 | U3: =+'dati 2022'!BO4+'dati 2022'!AY4+'dati 2022'!AZ4+'dati 2022'!AQ4+'dati 2022'!AR4+'dati 2022'!V4 -> 22.524 | V3: =+'dati 2022'!AG4 -> 0 | W3: =+'dati 2022'!BK4+'dati 2022'!BL4 -> 0 | X3: =+'dati 2022'!G4+'dati 2022'!Q4+'dati 2022'!T4+'dati 2022'!X4+'dati 2022'!AS4+'dati 2022'!AU4+'dati 2022'!AV4+'dati 2022'!AW4+'dati 2022'!AX4+'dati 2022'!AT4 -> 1.741
B4: ARBORIO | C4: 844 | D4: =+E4+F4 -> 348.1486 | E4: =+'dati 2022'!BG5+'dati 2022'!BH5 -> 161.3156 | F4: =+K4+L4+M4+N4+O4+P4+Q4+R4+S4+T4+U4+V4+W4+X4 -> 186.833 | G4: =+F4/D4 -> 0.53664728 | H4: =+((D4*1000)/C4)/365 -> 1.1301324 | I4: =+((E4*1000)/C4)/365 -> 0.52364994 | J4: =+((F4*1000)/C4)/365 -> 0.6064825 | K4: 0 | L4: =+'dati 2022'!AL5+'dati 2022'!AM5+'dati 2022'!AN5 -> 40.16 | M4: =+'dati 2022'!BD5 -> 15.77 | N4: =+'dati 2022'!I5+'dati 2022'!AJ5 -> 41.808 | O4: =+'dati 2022'!J5+'dati 2022'!K5 -> 25.36 | P4: =+'dati 2022'!L5+'dati 2022'!BA5 -> 0.82 | Q4: =+'dati 2022'!M5+'dati 2022'!BC5 -> 0.1 | R4: =+'dati 2022'!O5 -> 0 | S4: =+'dati 2022'!P5+'dati 2022'!AK5 -> 37.053 | T4: =+'dati 2022'!AO5+'dati 2022'!AP5 -> 6.715 | U4: =+'dati 2022'!BO5+'dati 2022'!AY5+'dati 2022'!AZ5+'dati 2022'!AQ5+'dati 2022'!AR5+'dati 2022'!V5 -> 10.56 | V4: =+'dati 2022'!AG5 -> 0 | W4: =+'dati 2022'!BK5+'dati 2022'!BL5 -> 8.07 | X4: =+'dati 2022'!G5+'dati 2022'!Q5+'dati 2022'!T5+'dati 2022'!X5+'dati 2022'!AS5+'dati 2022'!AU5+'dati 2022'!AV5+'dati 2022'!AW5+'dati 2022'!AX5+'dati 2022'!AT5 -> 0.417
B5: ASIGLIANO VERCELLESE | C5: 1389 | D5: =+E5+F5 -> 724.128 | E5: =+'dati 2022'!BG6+'dati 2022'!BH6 -> 175.738 | F5: =+K5+L5+M5+N5+O5+P5+Q5+R5+S5+T5+U5+V5+W5+X5 -> 548.39 | G5: =+F5/D5 -> 0.75731086 | H5: =+((D5*1000)/C5)/365 -> 1.4283026 | I5: =+((E5*1000)/C5)/365 -> 0.34663353 | J5: =+((F5*1000)/C5)/365 -> 1.0816691 | K5: 0 | L5: =+'dati 2022'!AL6+'dati 2022'!AM6+'dati 2022'!AN6 -> 83.59 | M5: =+'dati 2022'!BD6 -> 144.53 | N5: =+'dati 2022'!I6+'dati 2022'!AJ6 -> 50.745 | O5: =+'dati 2022'!J6+'dati 2022'!K6 -> 37.33 | P5: =+'dati 2022'!L6+'dati 2022'!BA6 -> 28.11 | Q5: =+'dati 2022'!M6+'dati 2022'!BC6 -> 2.56 | R5: =+'dati 2022'!O6 -> 0 | S5: =+'dati 2022'!P6+'dati 2022'!AK6 -> 62.35 | T5: =+'dati 2022'!AO6+'dati 2022'!AP6 -> 19.63 | U5: =+'dati 2022'!BO6+'dati 2022'!AY6+'dati 2022'!AZ6+'dati 2022'!AQ6+'dati 2022'!AR6+'dati 2022'!V6 -> 101.542 | V5: =+'dati 2022'!AG6 -> 17.17 | W5: =+'dati 2022'!BK6+'dati 2022'!BL6 -> 0 | X5: =+'dati 2022'!G6+'dati 2022'!Q6+'dati 2022'!T6+'dati 2022'!X6+'dati 2022'!AS6+'dati 2022'!AU6+'dati 2022'!AV6+'dati 2022'!AW6+'dati 2022'!AX6+'dati 2022'!AT6 -> 0.833
B6: BALOCCO | C6: 220 | D6: =+E6+F6 -> 95.6383 | E6: =+'dati 2022'!BG7+'dati 2022'!BH7 -> 36.4313 | F6: =+K6+L6+M6+N6+O6+P6+Q6+R6+S6+T6+U6+V6+W6+X6 -> 59.207 | G6: =+F6/D6 -> 0.61907207 | H6: =+((D6*1000)/C6)/365 -> 1.1910125 | I6: =+((E6*1000)/C6)/365 -> 0.45368991 | J6: =+((F6*1000)/C6)/365 -> 0.73732254 | K6: 0 | L6: =+'dati 2022'!AL7+'dati 2022'!AM7+'dati 2022'!AN7 -> 11.17 | M6: =+'dati 2022'!BD7 -> 8.54 | N6: =+'dati 2022'!I7+'dati 2022'!AJ7 -> 11.333 | O6: =+'dati 2022'!J7+'dati 2022'!K7 -> 10.075 | P6: =+'dati 2022'!L7+'dati 2022'!BA7 -> 0.23 | Q6: =+'dati 2022'!M7+'dati 2022'!BC7 -> 0.07 | R6: =+'dati 2022'!O7 -> 0 | S6: =+'dati 2022'!P7+'dati 2022'!AK7 -> 10.631 | T6: =+'dati 2022'!AO7+'dati 2022'!AP7 -> 1.876 | U6: =+'dati 2022'!BO7+'dati 2022'!AY7+'dati 2022'!AZ7+'dati 2022'!AQ7+'dati 2022'!AR7+'dati 2022'!V7 -> 3.092 | V6: =+'dati 2022'!AG7 -> 0.02 | W6: =+'dati 2022'!BK7+'dati 2022'!BL7 -> 1.72 | X6: =+'dati 2022'!G7+'dati 2022'!Q7+'dati 2022'!T7+'dati 2022'!X7+'dati 2022'!AS7+'dati 2022'!AU7+'dati 2022'!AV7+'dati 2022'!AW7+'dati 2022'!AX7+'dati 2022'!AT7 -> 0.45
B7: BIANZE' | C7: 1848 | D7: =+E7+F7 -> 715.877 | E7: =+'dati 2022'!BG8+'dati 2022'!BH8 -> 296.115 | F7: =+K7+L7+M7+N7+O7+P7+Q7+R7+S7+T7+U7+V7+W7+X7 -> 419.762 | G7: =+F7/D7 -> 0.58636051 | H7: =+((D7*1000)/C7)/365 -> 1.0613132 | I7: =+((E7*1000)/C7)/365 -> 0.43900107 | J7: =+((F7*1000)/C7)/365 -> 0.62231216 | K7: 0 | L7: =+'dati 2022'!AL8+'dati 2022'!AM8+'dati 2022'!AN8 -> 89.12 | M7: =+'dati 2022'!BD8 -> 76.54 | N7: =+'dati 2022'!I8+'dati 2022'!AJ8 -> 101.05 | O7: =+'dati 2022'!J8+'dati 2022'!K8 -> 44.69 | P7: =+'dati 2022'!L8+'dati 2022'!BA8 -> 2.57 | Q7: =+'dati 2022'!M8+'dati 2022'!BC8 -> 2.68 | R7: =+'dati 2022'!O8 -> 0 | S7: =+'dati 2022'!P8+'dati 2022'!AK8 -> 77 | T7: =+'dati 2022'!AO8+'dati 2022'!AP8 -> 16.352 | U7: =+'dati 2022'!BO8+'dati 2022'!AY8+'dati 2022'!AZ8+'dati 2022'!AQ8+'dati 2022'!AR8+'dati 2022'!V8 -> 9.491 | V7: =+'dati 2022'!AG8 -> 0 | W7: =+'dati 2022'!BK8+'dati 2022'!BL8 -> 0 | X7: =+'dati 2022'!G8+'dati 2022'!Q8+'dati 2022'!T8+'dati 2022'!X8+'dati 2022'!AS8+'dati 2022'!AU8+'dati 2022'!AV8+'dati 2022'!AW8+'dati 2022'!AX8+'dati 2022'!AT8 -> 0.269
B8: BORGO D'ALE | C8: 2260 | D8: =+E8+F8 -> 860.4156 | E8: =+'dati 2022'!BG9+'dati 2022'!BH9 -> 362.5296 | F8: =+K8+L8+M8+N8+O8+P8+Q8+R8+S8+T8+U8+V8+W8+X8 -> 497.886 | G8: =+F8/D8 -> 0.57865757 | H8: =+((D8*1000)/C8)/365 -> 1.0430544 | I8: =+((E8*1000)/C8)/365 -> 0.43948309 | J8: =+((F8*1000)/C8)/365 -> 0.60357134 | K8: 0 | L8: =+'dati 2022'!AL9+'dati 2022'!AM9+'dati 2022'!AN9 -> 104.42 | M8: =+'dati 2022'!BD9 -> 0 | N8: =+'dati 2022'!I9+'dati 2022'!AJ9 -> 97.04 | O8: =+'dati 2022'!J9+'dati 2022'!K9 -> 62.371 | P8: =+'dati 2022'!L9+'dati 2022'!BA9 -> 49.16 | Q8: =+'dati 2022'!M9+'dati 2022'!BC9 -> 0 | R8: =+'dati 2022'!O9 -> 0 | S8: =+'dati 2022'!P9+'dati 2022'!AK9 -> 94.156 | T8: =+'dati 2022'!AO9+'dati 2022'!AP9 -> 18.932 | U8: =+'dati 2022'!BO9+'dati 2022'!AY9+'dati 2022'!AZ9+'dati 2022'!AQ9+'dati 2022'!AR9+'dati 2022'!V9 -> 71.14 | V8: =+'dati 2022'!AG9 -> 0 | W8: =+'dati 2022'!BK9+'dati 2022'!BL9 -> 0 | X8: =+'dati 2022'!G9+'dati 2022'!Q9+'dati 2022'!T9+'dati 2022'!X9+'dati 2022'!AS9+'dati 2022'!AU9+'dati 2022'!AV9+'dati 2022'!AW9+'dati 2022'!AX9+'dati 2022'!AT9 -> 0.667
B9: BORGOSESIA
B10: BORGO VERCELLI | C10: 2228 | D10: =+E10+F10 -> 1021.365 | E10: =+'dati 2022'!BG11+'dati 2022'!BH11 -> 368.567 | F10: =+K10+L10+M10+N10+O10+P10+Q10+R10+S10+T10+U10+V10+W10+X10 -> 652.798 | G10: =+F10/D10 -> 0.63914272 | H10: =+((D10*1000)/C10)/365 -> 1.2559516 | I10: =+((E10*1000)/C10)/365 -> 0.4532193 | J10: =+((F10*1000)/C10)/365 -> 0.80273235 | K10: 0 | L10: =+'dati 2022'!AL11+'dati 2022'!AM11+'dati 2022'!AN11 -> 141.55 | M10: =+'dati 2022'!BD11 -> 62.3 | N10: =+'dati 2022'!I11+'dati 2022'!AJ11 -> 167.016 | O10: =+'dati 2022'!J11+'dati 2022'!K11 -> 75.91 | P10: =+'dati 2022'!L11+'dati 2022'!BA11 -> 21.151 | Q10: =+'dati 2022'!M11+'dati 2022'!BC11 -> 3.03 | R10: =+'dati 2022'!O11 -> 0 | S10: =+'dati 2022'!P11+'dati 2022'!AK11 -> 114.13 | T10: =+'dati 2022'!AO11+'dati 2022'!AP11 -> 22.32 | U10: =+'dati 2022'!BO11+'dati 2022'!AY11+'dati 2022'!AZ11+'dati 2022'!AQ11+'dati 2022'!AR11+'dati 2022'!V11 -> 23.527 | V10: =+'dati 2022'!AG11 -> 21.16 | W10: =+'dati 2022'!BK11+'dati 2022'!BL11 -> 0.3 | X10: =+'dati 2022'!G11+'dati 2022'!Q11+'dati 2022'!T11+'dati 2022'!X11+'dati 2022'!AS11+'dati 2022'!AU11+'dati 2022'!AV11+'dati 2022'!AW11+'dati 2022'!AX11+'dati 2022'!AT11 -> 0.404
B11: BURONZO | C11: 837 | D11: =+E11+F11 -> 320.2403 | E11: =+'dati 2022'!BG12+'dati 2022'!BH12 -> 137.6753 | F11: =+K11+L11+M11+N11+O11+P11+Q11+R11+S11+T11+U11+V11+W11+X11 -> 182.565 | G11: =+F11/D11 -> 0.57008752 | H11: =+((D11*1000)/C11)/365 -> 1.0482326 | I11: =+((E11*1000)/C11)/365 -> 0.45064827 | J11: =+((F11*1000)/C11)/365 -> 0.59758433 | K11: 0 | L11: =+'dati 2022'!AL12+'dati 2022'!AM12+'dati 2022'!AN12 -> 38.02 | M11: =+'dati 2022'!BD12 -> 22.26 | N11: =+'dati 2022'!I12+'dati 2022'!AJ12 -> 45.517 | O11: =+'dati 2022'!J12+'dati 2022'!K12 -> 22.291 | P11: =+'dati 2022'!L12+'dati 2022'!BA12 -> 0.29 | Q11: =+'dati 2022'!M12+'dati 2022'!BC12 -> 0.03 | R11: =+'dati 2022'!O12 -> 0 | S11: =+'dati 2022'!P12+'dati 2022'!AK12 -> 41.585 | T11: =+'dati 2022'!AO12+'dati 2022'!AP12 -> 6.838 | U11: =+'dati 2022'!BO12+'dati 2022'!AY12+'dati 2022'!AZ12+'dati 2022'!AQ12+'dati 2022'!AR12+'dati 2022'!V12 -> 5.37 | V11: =+'dati 2022'!AG12 -> 0 | W11: =+'dati 2022'!BK12+'dati 2022'!BL12 -> 0 | X11: =+'dati 2022'!G12+'dati 2022'!Q12+'dati 2022'!T12+'dati 2022'!X12+'dati 2022'!AS12+'dati 2022'!AU12+'dati 2022'!AV12+'dati 2022'!AW12+'dati 2022'!AX12+'dati 2022'!AT12 -> 0.364
B12: CARESANA | C12: 1039 | D12: =+E12+F12 -> 374.93 | E12: =+'dati 2022'!BG13+'dati 2022'!BH13 -> 159.51 | F12: =+K12+L12+M12+N12+O12+P12+Q12+R12+S12+T12+U12+V12+W12+X12 -> 215.42 | G12: =+F12/D12 -> 0.57456058 | H12: =+((D12*1000)/C12)/365 -> 0.9886482 | I12: =+((E12*1000)/C12)/365 -> 0.42060991 | J12: =+((F12*1000)/C12)/365 -> 0.56803829 | K12: 0 | L12: =+'dati 2022'!AL13+'dati 2022'!AM13+'dati 2022'!AN13 -> 40.58 | M12: =+'dati 2022'!BD13 -> 53.31 | N12: =+'dati 2022'!I13+'dati 2022'!AJ13 -> 36.995 | O12: =+'dati 2022'!J13+'dati 2022'!K13 -> 21.68 | P12: =+'dati 2022'!L13+'dati 2022'!BA13 -> 9.28 | Q12: =+'dati 2022'!M13+'dati 2022'!BC13 -> 1.2 | R12: =+'dati 2022'!O13 -> 0 | S12: =+'dati 2022'!P13+'dati 2022'!AK13 -> 36.3 | T12: =+'dati 2022'!AO13+'dati 2022'!AP13 -> 8.21 | U12: =+'dati 2022'!BO13+'dati 2022'!AY13+'dati 2022'!AZ13+'dati 2022'!AQ13+'dati 2022'!AR13+'dati 2022'!V13 -> 3.595 | V12: =+'dati 2022'!AG13 -> 0 | W12: =+'dati 2022'!BK13+'dati 2022'!BL13 -> 4.26 | X12: =+'dati 2022'!G13+'dati 2022'!Q13+'dati 2022'!T13+'dati 2022'!X13+'dati 2022'!AS13+'dati 2022'!AU13+'dati 2022'!AV13+'dati 2022'!AW13+'dati 2022'!AX13+'dati 2022'!AT13 -> 0.01
B13: CARESANABLOT | C13: 1096 | D13: =+E13+F13 -> 789.005 | E13: =+'dati 2022'!BG14+'dati 2022'!BH14 -> 289.41 | F13: =+K13+L13+M13+N13+O13+P13+Q13+R13+S13+T13+U13+V13+W13+X13 -> 499.595 | G13: =+F13/D13 -> 0.63319624 | H13: =+((D13*1000)/C13)/365 -> 1.9723153 | I13: =+((E13*1000)/C13)/365 -> 0.72345265 | J13: =+((F13*1000)/C13)/365 -> 1.2488626 | K13: 0 | L13: =+'dati 2022'!AL14+'dati 2022'!AM14+'dati 2022'!AN14 -> 71.34 | M13: =+'dati 2022'!BD14 -> 124.49 | N13: =+'dati 2022'!I14+'dati 2022'!AJ14 -> 124.584 | O13: =+'dati 2022'!J14+'dati 2022'!K14 -> 29.2 | P13: =+'dati 2022'!L14+'dati 2022'!BA14 -> 13.7 | Q13: =+'dati 2022'!M14+'dati 2022'!BC14 -> 1.7 | R13: =+'dati 2022'!O14 -> 0 | S13: =+'dati 2022'!P14+'dati 2022'!AK14 -> 67.14 | T13: =+'dati 2022'!AO14+'dati 2022'!AP14 -> 11.57 | U13: =+'dati 2022'!BO14+'dati 2022'!AY14+'dati 2022'!AZ14+'dati 2022'!AQ14+'dati 2022'!AR14+'dati 2022'!V14 -> 18.207 | V13: =+'dati 2022'!AG14 -> 6.11 | W13: =+'dati 2022'!BK14+'dati 2022'!BL14 -> 31.28 | X13: =+'dati 2022'!G14+'dati 2022'!Q14+'dati 2022'!T14+'dati 2022'!X14+'dati 2022'!AS14+'dati 2022'!AU14+'dati 2022'!AV14+'dati 2022'!AW14+'dati 2022'!AX14+'dati 2022'!AT14 -> 0.274
B14: CARISIO | C14: 766 | D14: =+E14+F14 -> 436.4004 | E14: =+'dati 2022'!BG15+'dati 2022'!BH15 -> 115.1684 | F14: =+K14+L14+M14+N14+O14+P14+Q14+R14+S14+T14+U14+V14+W14+X14 -> 321.232 | G14: =+F14/D14 -> 0.73609465 | H14: =+((D14*1000)/C14)/365 -> 1.5608584 | I14: =+((E14*1000)/C14)/365 -> 0.41191888 | J14: =+((F14*1000)/C14)/365 -> 1.1489395 | K14: 0 | L14: =+'dati 2022'!AL15+'dati 2022'!AM15+'dati 2022'!AN15 -> 94.035 | M14: =+'dati 2022'!BD15 -> 30.86 | N14: =+'dati 2022'!I15+'dati 2022'!AJ15 -> 64.325 | O14: =+'dati 2022'!J15+'dati 2022'!K15 -> 34.843 | P14: =+'dati 2022'!L15+'dati 2022'!BA15 -> 0 | Q14: =+'dati 2022'!M15+'dati 2022'!BC15 -> 0 | R14: =+'dati 2022'!O15 -> 0 | S14: =+'dati 2022'!P15+'dati 2022'!AK15 -> 78.55 | T14: =+'dati 2022'!AO15+'dati 2022'!AP15 -> 12.169 | U14: =+'dati 2022'!BO15+'dati 2022'!AY15+'dati 2022'!AZ15+'dati 2022'!AQ15+'dati 2022'!AR15+'dati 2022'!V15 -> 6.099 | V14: =+'dati 2022'!AG15 -> 0 | W14: =+'dati 2022'!BK15+'dati 2022'!BL15 -> 0 | X14: =+'dati 2022'!G15+'dati 2022'!Q15+'dati 2022'!T15+'dati 2022'!X15+'dati 2022'!AS15+'dati 2022'!AU15+'dati 2022'!AV15+'dati 2022'!AW15+'dati 2022'!AX15+'dati 2022'!AT15 -> 0.351
B15: CASANOVAELVO | C15: 223 | D15: =+E15+F15 -> 84.31613 | E15: =+'dati 2022'!BG16+'dati 2022'!BH16 -> 32.98213 | F15: =+K15+L15+M15+N15+O15+P15+Q15+R15+S15+T15+U15+V15+W15+X15 -> 51.334 | G15: =+F15/D15 -> 0.60882775 | H15: =+((D15*1000)/C15)/365 -> 1.0358883 | I15: =+((E15*1000)/C15)/365 -> 0.40521076 | J15: =+((F15*1000)/C15)/365 -> 0.63067756 | K15: 0 | L15: =+'dati 2022'!AL16+'dati 2022'!AM16+'dati 2022'!AN16 -> 10.366 | M15: =+'dati 2022'!BD16 -> 12.86 | N15: =+'dati 2022'!I16+'dati 2022'!AJ16 -> 6.623 | O15: =+'dati 2022'!J16+'dati 2022'!K16 -> 4.51 | P15: =+'dati 2022'!L16+'dati 2022'!BA16 -> 0 | Q15: =+'dati 2022'!M16+'dati 2022'!BC16 -> 0 | R15: =+'dati 2022'!O16 -> 0 | S15: =+'dati 2022'!P16+'dati 2022'!AK16 -> 9.464 | T15: =+'dati 2022'!AO16+'dati 2022'!AP16 -> 1.27 | U15: =+'dati 2022'!BO16+'dati 2022'!AY16+'dati 2022'!AZ16+'dati 2022'!AQ16+'dati 2022'!AR16+'dati 2022'!V16 -> 5.633 | V15: =+'dati 2022'!AG16 -> 0.58 | W15: =+'dati 2022'!BK16+'dati 2022'!BL16 -> 0 | X15: =+'dati 2022'!G16+'dati 2022'!Q16+'dati 2022'!T16+'dati 2022'!X16+'dati 2022'!AS16+'dati 2022'!AU16+'dati 2022'!AV16+'dati 2022'!AW16+'dati 2022'!AX16+'dati 2022'!AT16 -> 0.028
B16: CIGLIANO | C16: 4283 | D16: =+E16+F16 -> 1619.297 | E16: =+'dati 2022'!BG17+'dati 2022'!BH17 -> 482.345 | F16: =+K16+L16+M16+N16+O16+P16+Q16+R16+S16+T16+U16+V16+W16+X16 -> 1136.952 | G16: =+F16/D16 -> 0.70212691 | H16: =+((D16*1000)/C16)/365 -> 1.0358231 | I16: =+((E16*1000)/C16)/365 -> 0.30854381 | J16: =+((F16*1000)/C16)/365 -> 0.72727924 | K16: 0 | L16: =+'dati 2022'!AL17+'dati 2022'!AM17+'dati 2022'!AN17 -> 284.12 | M16: =+'dati 2022'!BD17 -> 240 | N16: =+'dati 2022'!I17+'dati 2022'!AJ17 -> 210.126 | O16: =+'dati 2022'!J17+'dati 2022'!K17 -> 126.14 | P16: =+'dati 2022'!L17+'dati 2022'!BA17 -> 0 | Q16: =+'dati 2022'!M17+'dati 2022'!BC17 -> 6.42 | R16: =+'dati 2022'!O17 -> 0 | S16: =+'dati 2022'!P17+'dati 2022'!AK17 -> 174.04 | T16: =+'dati 2022'!AO17+'dati 2022'!AP17 -> 49.279 | U16: =+'dati 2022'!BO17+'dati 2022'!AY17+'dati 2022'!AZ17+'dati 2022'!AQ17+'dati 2022'!AR17+'dati 2022'!V17 -> 35.832 | V16: =+'dati 2022'!AG17 -> 0 | W16: =+'dati 2022'!BK17+'dati 2022'!BL17 -> 10.12 | X16: =+'dati 2022'!G17+'dati 2022'!Q17+'dati 2022'!T17+'dati 2022'!X17+'dati 2022'!AS17+'dati 2022'!AU17+'dati 2022'!AV17+'dati 2022'!AW17+'dati 2022'!AX17+'dati 2022'!AT17 -> 0.875
B17: COLLOBIANO | C17: 86 | D17: =+E17+F17 -> 35.10523 | E17: =+'dati 2022'!BG18+'dati 2022'!BH18 -> 13.66723 | F17: =+K17+L17+M17+N17+O17+P17+Q17+R17+S17+T17+U17+V17+W17+X17 -> 21.438 | G17: =+F17/D17 -> 0.61067824 | H17: =+((D17*1000)/C17)/365 -> 1.1183571 | I17: =+((E17*1000)/C17)/365 -> 0.43540076 | J17: =+((F17*1000)/C17)/365 -> 0.68295636 | K17: 0 | L17: =+'dati 2022'!AL18+'dati 2022'!AM18+'dati 2022'!AN18 -> 5.179 | M17: =+'dati 2022'!BD18 -> 5.06 | N17: =+'dati 2022'!I18+'dati 2022'!AJ18 -> 4.116 | O17: =+'dati 2022'!J18+'dati 2022'!K18 -> 2.678 | P17: =+'dati 2022'!L18+'dati 2022'!BA18 -> 0 | Q17: =+'dati 2022'!M18+'dati 2022'!BC18 -> 0 | R17: =+'dati 2022'!O18 -> 0 | S17: =+'dati 2022'!P18+'dati 2022'!AK18 -> 3.107 | T17: =+'dati 2022'!AO18+'dati 2022'!AP18 -> 0.694 | U17: =+'dati 2022'!BO18+'dati 2022'!AY18+'dati 2022'!AZ18+'dati 2022'!AQ18+'dati 2022'!AR18+'dati 2022'!V18 -> 0.584 | V17: =+'dati 2022'!AG18 -> 0 | W17: =+'dati 2022'!BK18+'dati 2022'!BL18 -> 0 | X17: =+'dati 2022'!G18+'dati 2022'!Q18+'dati 2022'!T18+'dati 2022'!X18+'dati 2022'!AS18+'dati 2022'!AU18+'dati 2022'!AV18+'dati 2022'!AW18+'dati 2022'!AX18+'dati 2022'!AT18 -> 0.02
B18: COSTANZANA | C18: 748 | D18: =+E18+F18 -> 305.033 | E18: =+'dati 2022'!BG19+'dati 2022'!BH19 -> 108.298 | F18: =+K18+L18+M18+N18+O18+P18+Q18+R18+S18+T18+U18+V18+W18+X18 -> 196.735 | G18: =+F18/D18 -> 0.644963 | H18: =+((D18*1000)/C18)/365 -> 1.1172551 | I18: =+((E18*1000)/C18)/365 -> 0.39666691 | J18: =+((F18*1000)/C18)/365 -> 0.72058824 | K18: 0 | L18: =+'dati 2022'!AL19+'dati 2022'!AM19+'dati 2022'!AN19 -> 35.17 | M18: =+'dati 2022'!BD19 -> 63.52 | N18: =+'dati 2022'!I19+'dati 2022'!AJ19 -> 28.735 | O18: =+'dati 2022'!J19+'dati 2022'!K19 -> 18.17 | P18: =+'dati 2022'!L19+'dati 2022'!BA19 -> 3.8 | Q18: =+'dati 2022'!M19+'dati 2022'!BC19 -> 0.98 | R18: =+'dati 2022'!O19 -> 0 | S18: =+'dati 2022'!P19+'dati 2022'!AK19 -> 27.74 | T18: =+'dati 2022'!AO19+'dati 2022'!AP19 -> 6.7 | U18: =+'dati 2022'!BO19+'dati 2022'!AY19+'dati 2022'!AZ19+'dati 2022'!AQ19+'dati 2022'!AR19+'dati 2022'!V19 -> 5.63 | V18: =+'dati 2022'!AG19 -> 0.02 | W18: =+'dati 2022'!BK19+'dati 2022'!BL19 -> 3.31 | X18: =+'dati 2022'!G19+'dati 2022'!Q19+'dati 2022'!T19+'dati 2022'!X19+'dati 2022'!AS19+'dati 2022'!AU19+'dati 2022'!AV19+'dati 2022'!AW19+'dati 2022'!AX19+'dati 2022'!AT19 -> 2.96
B19: CRESCENTINO | C19: 7611 | D19: =+E19+F19 -> 3004.754 | E19: =+'dati 2022'!BG20+'dati 2022'!BH20 -> 1058.782 | F19: =+K19+L19+M19+N19+O19+P19+Q19+R19+S19+T19+U19+V19+W19+X19 -> 1945.972 | G19: =+F19/D19 -> 0.64763105 | H19: =+((D19*1000)/C19)/365 -> 1.0816191 | I19: =+((E19*1000)/C19)/365 -> 0.38112897 | J19: =+((F19*1000)/C19)/365 -> 0.7004901 | K19: 0 | L19: =+'dati 2022'!AL20+'dati 2022'!AM20+'dati 2022'!AN20 -> 447.17 | M19: =+'dati 2022'!BD20 -> 363.95 | N19: =+'dati 2022'!I20+'dati 2022'!AJ20 -> 267.984 | O19: =+'dati 2022'!J20+'dati 2022'!K20 -> 153.15 | P19: =+'dati 2022'!L20+'dati 2022'!BA20 -> 123.78 | Q19: =+'dati 2022'!M20+'dati 2022'!BC20 -> 9.24 | R19: =+'dati 2022'!O20 -> 0 | S19: =+'dati 2022'!P20+'dati 2022'!AK20 -> 308.9 | T19: =+'dati 2022'!AO20+'dati 2022'!AP20 -> 76.73 | U19: =+'dati 2022'!BO20+'dati 2022'!AY20+'dati 2022'!AZ20+'dati 2022'!AQ20+'dati 2022'!AR20+'dati 2022'!V20 -> 182.017 | V19: =+'dati 2022'!AG20 -> 0 | W19: =+'dati 2022'!BK20+'dati 2022'!BL20 -> 8.32 | X19: =+'dati 2022'!G20+'dati 2022'!Q20+'dati 2022'!T20+'dati 2022'!X20+'dati 2022'!AS20+'dati 2022'!AU20+'dati 2022'!AV20+'dati 2022'!AW20+'dati 2022'!AX20+'dati 2022'!AT20 -> 4.731
B20: CROVA | C20: 394 | D20: =+E20+F20 -> 129.6639 | E20: =+'dati 2022'!BG21+'dati 2022'!BH21 -> 46.1969 | F20: =+K20+L20+M20+N20+O20+P20+Q20+R20+S20+T20+U20+V20+W20+X20 -> 83.467 | G20: =+F20/D20 -> 0.64371811 | H20: =+((D20*1000)/C20)/365 -> 0.90163341 | I20: =+((E20*1000)/C20)/365 -> 0.32123566 | J20: =+((F20*1000)/C20)/365 -> 0.58039775 | K20: 0 | L20: =+'dati 2022'!AL21+'dati 2022'!AM21+'dati 2022'!AN21 -> 12.097 | M20: =+'dati 2022'!BD21 -> 14.63 | N20: =+'dati 2022'!I21+'dati 2022'!AJ21 -> 17.903 | O20: =+'dati 2022'!J21+'dati 2022'!K21 -> 11.374 | P20: =+'dati 2022'!L21+'dati 2022'!BA21 -> 0 | Q20: =+'dati 2022'!M21+'dati 2022'!BC21 -> 0 | R20: =+'dati 2022'!O21 -> 0 | S20: =+'dati 2022'!P21+'dati 2022'!AK21 -> 24.286 | T20: =+'dati 2022'!AO21+'dati 2022'!AP21 -> 2.215 | U20: =+'dati 2022'!BO21+'dati 2022'!AY21+'dati 2022'!AZ21+'dati 2022'!AQ21+'dati 2022'!AR21+'dati 2022'!V21 -> 0.934 | V20: =+'dati 2022'!AG21 -> 0 | W20: =+'dati 2022'!BK21+'dati 2022'!BL21 -> 0 | X20: =+'dati 2022'!G21+'dati 2022'!Q21+'dati 2022'!T21+'dati 2022'!X21+'dati 2022'!AS21+'dati 2022'!AU21+'dati 2022'!AV21+'dati 2022'!AW21+'dati 2022'!AX21+'dati 2022'!AT21 -> 0.028
B21: DESANA | C21: 1061 | D21: =+E21+F21 -> 439.289 | E21: =+'dati 2022'!BG22+'dati 2022'!BH22 -> 162.583 | F21: =+K21+L21+M21+N21+O21+P21+Q21+R21+S21+T21+U21+V21+W21+X21 -> 276.706 | G21: =+F21/D21 -> 0.62989513 | H21: =+((D21*1000)/C21)/365 -> 1.134337 | I21: =+((E21*1000)/C21)/365 -> 0.41982363 | J21: =+((F21*1000)/C21)/365 -> 0.71451332 | K21: 0 | L21: =+'dati 2022'!AL22+'dati 2022'!AM22+'dati 2022'!AN22 -> 49.39 | M21: =+'dati 2022'!BD22 -> 63.18 | N21: =+'dati 2022'!I22+'dati 2022'!AJ22 -> 46.736 | O21: =+'dati 2022'!J22+'dati 2022'!K22 -> 28.79 | P21: =+'dati 2022'!L22+'dati 2022'!BA22 -> 3.21 | Q21: =+'dati 2022'!M22+'dati 2022'!BC22 -> 1.31 | R21: =+'dati 2022'!O22 -> 0 | S21: =+'dati 2022'!P22+'dati 2022'!AK22 -> 52.27 | T21: =+'dati 2022'!AO22+'dati 2022'!AP22 -> 9 | U21: =+'dati 2022'!BO22+'dati 2022'!AY22+'dati 2022'!AZ22+'dati 2022'!AQ22+'dati 2022'!AR22+'dati 2022'!V22 -> 17.143 | V21: =+'dati 2022'!AG22 -> 5.16 | W21: =+'dati 2022'!BK22+'dati 2022'!BL22 -> 0.28 | X21: =+'dati 2022'!G22+'dati 2022'!Q22+'dati 2022'!T22+'dati 2022'!X22+'dati 2022'!AS22+'dati 2022'!AU22+'dati 2022'!AV22+'dati 2022'!AW22+'dati 2022'!AX22+'dati 2022'!AT22 -> 0.237
... B57: VARALLO | C57: 6931 | D57: =+E57+F57 -> 3723.425 | E57: =+'dati 2022'!BG58+'dati 2022'!BH58 -> 1173.423 | F57: =+K57+L57+M57+N57+O57+P57+Q57+R57+S57+T57+U57+V57+W57+X57 -> 2550.002 | G57: =+F57/D57 -> 0.68485386 | H57: =+((D57*1000)/C57)/365 -> 1.4718171 | I57: =+((E57*1000)/C57)/365 -> 0.46383747 | J57: =+((F57*1000)/C57)/365 -> 1.0079796 | K57: 0 | L57: =+'dati 2022'!AL58+'dati 2022'!AM58+'dati 2022'!AN58 -> 394.04 | M57: =+'dati 2022'!BD58 -> 327.09 | N57: =+'dati 2022'!I58+'dati 2022'!AJ58 -> 428.37 | O57: =+'dati 2022'!J58+'dati 2022'!K58 -> 150.639 | P57: =+'dati 2022'!L58+'dati 2022'!BA58 -> 283.57 | Q57: =+'dati 2022'!M58+'dati 2022'!BC58 -> 44.901 | R57: =+'dati 2022'!O58 -> 0 | S57: =+'dati 2022'!P58+'dati 2022'!AK58 -> 338.593 | T57: =+'dati 2022'!AO58+'dati 2022'!AP58 -> 128.84 | U57: =+'dati 2022'!BO58+'dati 2022'!AY58+'dati 2022'!AZ58+'dati 2022'!AQ58+'dati 2022'!AR58+'dati 2022'!V58 -> 239.364 | V57: =+'dati 2022'!AG58 -> 120.342 | W57: =+'dati 2022'!BK58+'dati 2022'!BL58 -> 65.53 | X57: =+'dati 2022'!G58+'dati 2022'!Q58+'dati 2022'!T58+'dati 2022'!X58+'dati 2022'!AS58+'dati 2022'!AU58+'dati 2022'!AV58+'dati 2022'!AW58+'dati 2022'!AX58+'dati 2022'!AT58 -> 28.723
B58: VERCELLI
B59: VILLARBOIT | C59: 398 | D59: =+E59+F59 -> 152.9528 | E59: =+'dati 2022'!BG60+'dati 2022'!BH60 -> 76.9128 | F59: =+K59+L59+M59+N59+O59+P59+Q59+R59+S59+T59+U59+V59+W59+X59 -> 76.04 | G59: =+F59/D59 -> 0.49714683 | H59: =+((D59*1000)/C59)/365 -> 1.0528863 | I59: =+((E59*1000)/C59)/365 -> 0.52944724 | J59: =+((F59*1000)/C59)/365 -> 0.52343911 | K59: 0 | L59: =+'dati 2022'!AL60+'dati 2022'!AM60+'dati 2022'!AN60 -> 19.755 | M59: =+'dati 2022'!BD60 -> 0 | N59: =+'dati 2022'!I60+'dati 2022'!AJ60 -> 18.685 | O59: =+'dati 2022'!J60+'dati 2022'!K60 -> 12.789 | P59: =+'dati 2022'!L60+'dati 2022'!BA60 -> 0.27 | Q59: =+'dati 2022'!M60+'dati 2022'!BC60 -> 0.06 | R59: =+'dati 2022'!O60 -> 0 | S59: =+'dati 2022'!P60+'dati 2022'!AK60 -> 17.421 | T59: =+'dati 2022'!AO60+'dati 2022'!AP60 -> 3.575 | U59: =+'dati 2022'!BO60+'dati 2022'!AY60+'dati 2022'!AZ60+'dati 2022'!AQ60+'dati 2022'!AR60+'dati 2022'!V60 -> 3.29 | V59: =+'dati 2022'!AG60 -> 0 | W59: =+'dati 2022'!BK60+'dati 2022'!BL60 -> 0 | X59: =+'dati 2022'!G60+'dati 2022'!Q60+'dati 2022'!T60+'dati 2022'!X60+'dati 2022'!AS60+'dati 2022'!AU60+'dati 2022'!AV60+'dati 2022'!AW60+'dati 2022'!AX60+'dati 2022'!AT60 -> 0.195
B60: ALAGNA VALSESIA | C60: 725 | D60: =+E60+F60 -> 738.997 | E60: =+'dati 2022'!BG61+'dati 2022'!BH61 -> 310.61 | F60: =+K60+L60+M60+N60+O60+P60+Q60+R60+S60+T60+U60+V60+W60+X60 -> 428.387 | G60: =+F60/D60 -> 0.57968706 | H60: =+((D60*1000)/C60)/365 -> 2.7926197 | I60: =+((E60*1000)/C60)/365 -> 1.1737742 | J60: =+((F60*1000)/C60)/365 -> 1.6188455 | K60: 0 | L60: =+'dati 2022'!AL61+'dati 2022'!AM61+'dati 2022'!AN61 -> 45.82 | M60: =+'dati 2022'!BD61 -> 2.455 | N60: =+'dati 2022'!I61+'dati 2022'!AJ61 -> 94.26 | O60: =+'dati 2022'!J61+'dati 2022'!K61 -> 28.91 | P60: =+'dati 2022'!L61+'dati 2022'!BA61 -> 21.21 | Q60: =+'dati 2022'!M61+'dati 2022'!BC61 -> 6.945 | R60: =+'dati 2022'!O61 -> 0 | S60: =+'dati 2022'!P61+'dati 2022'!AK61 -> 183.92 | T60: =+'dati 2022'!AO61+'dati 2022'!AP61 -> 7.41 | U60: =+'dati 2022'!BO61+'dati 2022'!AY61+'dati 2022'!AZ61+'dati 2022'!AQ61+'dati 2022'!AR61+'dati 2022'!V61 -> 35.11 | V60: =+'dati 2022'!AG61 -> 1.45 | W60: =+'dati 2022'!BK61+'dati 2022'!BL61 -> 0 | X60: =+'dati 2022'!G61+'dati 2022'!Q61+'dati 2022'!T61+'dati 2022'!X61+'dati 2022'!AS61+'dati 2022'!AU61+'dati 2022'!AV61+'dati 2022'!AW61+'dati 2022'!AX61+'dati 2022'!AT61 -> 0.897
B61: ALTO SERMENZA | C61: 149 | D61: =+E61+F61 -> 123.197 | E61: =+'dati 2022'!BG62+'dati 2022'!BH62 -> 65.776 | F61: =+K61+L61+M61+N61+O61+P61+Q61+R61+S61+T61+U61+V61+W61+X61 -> 57.421 | G61: =+F61/D61 -> 0.4660909 | H61: =+((D61*1000)/C61)/365 -> 2.2652754 | I61: =+((E61*1000)/C61)/365 -> 1.2094511 | J61: =+((F61*1000)/C61)/365 -> 1.0558242 | K61: 0 | L61: =+'dati 2022'!AL62+'dati 2022'!AM62+'dati 2022'!AN62 -> 0.54 | M61: =+'dati 2022'!BD62 -> 1.46 | N61: =+'dati 2022'!I62+'dati 2022'!AJ62 -> 12.195 | O61: =+'dati 2022'!J62+'dati 2022'!K62 -> 7.46 | P61: =+'dati 2022'!L62+'dati 2022'!BA62 -> 2.41 | Q61: =+'dati 2022'!M62+'dati 2022'!BC62 -> 2.165 | R61: =+'dati 2022'!O62 -> 0 | S61: =+'dati 2022'!P62+'dati 2022'!AK62 -> 21.33 | T61: =+'dati 2022'!AO62+'dati 2022'!AP62 -> 0 | U61: =+'dati 2022'!BO62+'dati 2022'!AY62+'dati 2022'!AZ62+'dati 2022'!AQ62+'dati 2022'!AR62+'dati 2022'!V62 -> 7.32 | V61: =+'dati 2022'!AG62 -> 1.509 | W61: =+'dati 2022'!BK62+'dati 2022'!BL62 -> 0 | X61: =+'dati 2022'!G62+'dati 2022'!Q62+'dati 2022'!T62+'dati 2022'!X62+'dati 2022'!AS62+'dati 2022'!AU62+'dati 2022'!AV62+'dati 2022'!AW62+'dati 2022'!AX62+'dati 2022'!AT62 -> 1.032
B62: BALMUCCIA | C62: 117 | D62: =+E62+F62 -> 43.344 | E62: =+'dati 2022'!BG63+'dati 2022'!BH63 -> 9.59 | F62: =+K62+L62+M62+N62+O62+P62+Q62+R62+S62+T62+U62+V62+W62+X62 -> 33.754 | G62: =+F62/D62 -> 0.77874677 | H62: =+((D62*1000)/C62)/365 -> 1.0149631 | I62: =+((E62*1000)/C62)/365 -> 0.22456387 | J62: =+((F62*1000)/C62)/365 -> 0.79039925 | K62: 0 | L62: =+'dati 2022'!AL63+'dati 2022'!AM63+'dati 2022'!AN63 -> 2.93 | M62: =+'dati 2022'!BD63 -> 0.83 | N62: =+'dati 2022'!I63+'dati 2022'!AJ63 -> 6.193 | O62: =+'dati 2022'!J63+'dati 2022'!K63 -> 3.072 | P62: =+'dati 2022'!L63+'dati 2022'!BA63 -> 4.21 | Q62: =+'dati 2022'!M63+'dati 2022'!BC63 -> 1.18 | R62: =+'dati 2022'!O63 -> 0 | S62: =+'dati 2022'!P63+'dati 2022'!AK63 -> 9.115 | T62: =+'dati 2022'!AO63+'dati 2022'!AP63 -> 0.3 | U62: =+'dati 2022'!BO63+'dati 2022'!AY63+'dati 2022'!AZ63+'dati 2022'!AQ63+'dati 2022'!AR63+'dati 2022'!V63 -> 5.025 | V62: =+'dati 2022'!AG63 -> 0.705 | W62: =+'dati 2022'!BK63+'dati 2022'!BL63 -> 0 | X62: =+'dati 2022'!G63+'dati 2022'!Q63+'dati 2022'!T63+'dati 2022'!X63+'dati 2022'!AS63+'dati 2022'!AU63+'dati 2022'!AV63+'dati 2022'!AW63+'dati 2022'!AX63+'dati 2022'!AT63 -> 0.194
B63: BOCCIOLETO | C63: 160 | D63: =+E63+F63 -> 99.302 | E63: =+'dati 2022'!BG64+'dati 2022'!BH64 -> 53.72 | F63: =+K63+L63+M63+N63+O63+P63+Q63+R63+S63+T63+U63+V63+W63+X63 -> 45.582 | G63: =+F63/D63 -> 0.45902399 | H63: =+((D63*1000)/C63)/365 -> 1.7003767 | I63: =+((E63*1000)/C63)/365 -> 0.91986301 | J63: =+((F63*1000)/C63)/365 -> 0.7805137 | K63: 0 | L63: =+'dati 2022'!AL64+'dati 2022'!AM64+'dati 2022'!AN64 -> 0 | M63: =+'dati 2022'!BD64 -> 1.4 | N63: =+'dati 2022'!I64+'dati 2022'!AJ64 -> 8.78 | O63: =+'dati 2022'!J64+'dati 2022'!K64 -> 6.38 | P63: =+'dati 2022'!L64+'dati 2022'!BA64 -> 7.175 | Q63: =+'dati 2022'!M64+'dati 2022'!BC64 -> 0.435 | R63: =+'dati 2022'!O64 -> 0 | S63: =+'dati 2022'!P64+'dati 2022'!AK64 -> 11.36 | T63: =+'dati 2022'!AO64+'dati 2022'!AP64 -> 0 | U63: =+'dati 2022'!BO64+'dati 2022'!AY64+'dati 2022'!AZ64+'dati 2022'!AQ64+'dati 2022'!AR64+'dati 2022'!V64 -> 9.06 | V63: =+'dati 2022'!AG64 -> 0.45 | W63: =+'dati 2022'!BK64+'dati 2022'!BL64 -> 0 | X63: =+'dati 2022'!G64+'dati 2022'!Q64+'dati 2022'!T64+'dati 2022'!X64+'dati 2022'!AS64+'dati 2022'!AU64+'dati 2022'!AV64+'dati 2022'!AW64+'dati 2022'!AX64+'dati 2022'!AT64 -> 0.542
B64: CAMPERTOGNO | C64: 214 | D64: =+E64+F64 -> 186.011 | E64: =+'dati 2022'!BG65+'dati 2022'!BH65 -> 100.51 | F64: =+K64+L64+M64+N64+O64+P64+Q64+R64+S64+T64+U64+V64+W64+X64 -> 85.501 | G64: =+F64/D64 -> 0.45965561 | H64: =+((D64*1000)/C64)/365 -> 2.381398 | I64: =+((E64*1000)/C64)/365 -> 1.2867751 | J64: =+((F64*1000)/C64)/365 -> 1.094623 | K64: 0 | L64: =+'dati 2022'!AL65+'dati 2022'!AM65+'dati 2022'!AN65 -> 17.65 | M64: =+'dati 2022'!BD65 -> 0.97 | N64: =+'dati 2022'!I65+'dati 2022'!AJ65 -> 13.635 | O64: =+'dati 2022'!J65+'dati 2022'!K65 -> 7.06 | P64: =+'dati 2022'!L65+'dati 2022'!BA65 -> 5.445 | Q64: =+'dati 2022'!M65+'dati 2022'!BC65 -> 2.825 | R64: =+'dati 2022'!O65 -> 0 | S64: =+'dati 2022'!P65+'dati 2022'!AK65 -> 22.6 | T64: =+'dati 2022'!AO65+'dati 2022'!AP65 -> 2.89 | U64: =+'dati 2022'!BO65+'dati 2022'!AY65+'dati 2022'!AZ65+'dati 2022'!AQ65+'dati 2022'!AR65+'dati 2022'!V65 -> 9.631 | V64: =+'dati 2022'!AG65 -> 0.73 | W64: =+'dati 2022'!BK65+'dati 2022'!BL65 -> 0 | X64: =+'dati 2022'!G65+'dati 2022'!Q65+'dati 2022'!T65+'dati 2022'!X65+'dati 2022'!AS65+'dati 2022'!AU65+'dati 2022'!AV65+'dati 2022'!AW65+'dati 2022'!AX65+'dati 2022'!AT65 -> 2.065
B65: CARCOFORO | C65: 73 | D65: =+E65+F65 -> 50.56 | E65: =+'dati 2022'!BG66+'dati 2022'!BH66 -> 29.12 | F65: =+K65+L65+M65+N65+O65+P65+Q65+R65+S65+T65+U65+V65+W65+X65 -> 21.44 | G65: =+F65/D65 -> 0.42405063 | H65: =+((D65*1000)/C65)/365 -> 1.8975418 | I65: =+((E65*1000)/C65)/365 -> 1.092888 | J65: =+((F65*1000)/C65)/365 -> 0.80465378 | K65: 0 | L65: =+'dati 2022'!AL66+'dati 2022'!AM66+'dati 2022'!AN66 -> 0 | M65: =+'dati 2022'!BD66 -> 0.71 | N65: =+'dati 2022'!I66+'dati 2022'!AJ66 -> 2.67 | O65: =+'dati 2022'!J66+'dati 2022'!K66 -> 1.77 | P65: =+'dati 2022'!L66+'dati 2022'!BA66 -> 2.89 | Q65: =+'dati 2022'!M66+'dati 2022'!BC66 -> 1.82 | R65: =+'dati 2022'!O66 -> 0 | S65: =+'dati 2022'!P66+'dati 2022'!AK66 -> 4.75 | T65: =+'dati 2022'!AO66+'dati 2022'!AP66 -> 0 | U65: =+'dati 2022'!BO66+'dati 2022'!AY66+'dati 2022'!AZ66+'dati 2022'!AQ66+'dati 2022'!AR66+'dati 2022'!V66 -> 6.495 | V65: =+'dati 2022'!AG66 -> 0.03 | W65: =+'dati 2022'!BK66+'dati 2022'!BL66 -> 0 | X65: =+'dati 2022'!G66+'dati 2022'!Q66+'dati 2022'!T66+'dati 2022'!X66+'dati 2022'!AS66+'dati 2022'!AU66+'dati 2022'!AV66+'dati 2022'!AW66+'dati 2022'!AX66+'dati 2022'!AT66 -> 0.305
B66: CELLIO con BREIA | C66: 941 | D66: =+E66+F66 -> 423.872 | E66: =+'dati 2022'!BG67+'dati 2022'!BH67 -> 219.33 | F66: =+K66+L66+M66+N66+O66+P66+Q66+R66+S66+T66+U66+V66+W66+X66 -> 204.542 | G66: =+F66/D66 -> 0.48255605 | H66: =+((D66*1000)/C66)/365 -> 1.2341054 | I66: =+((E66*1000)/C66)/365 -> 0.63858035 | J66: =+((F66*1000)/C66)/365 -> 0.59552502 | K66: 0 | L66: =+'dati 2022'!AL67+'dati 2022'!AM67+'dati 2022'!AN67 -> 33.24 | M66: =+'dati 2022'!BD67 -> 2.8 | N66: =+'dati 2022'!I67+'dati 2022'!AJ67 -> 40.055 | O66: =+'dati 2022'!J67+'dati 2022'!K67 -> 25.625 | P66: =+'dati 2022'!L67+'dati 2022'!BA67 -> 16.625 | Q66: =+'dati 2022'!M67+'dati 2022'!BC67 -> 2 | R66: =+'dati 2022'!O67 -> 0 | S66: =+'dati 2022'!P67+'dati 2022'!AK67 -> 57.38 | T66: =+'dati 2022'!AO67+'dati 2022'!AP67 -> 5.28 | U66: =+'dati 2022'!BO67+'dati 2022'!AY67+'dati 2022'!AZ67+'dati 2022'!AQ67+'dati 2022'!AR67+'dati 2022'!V67 -> 13.527 | V66: =+'dati 2022'!AG67 -> 6.39 | W66: =+'dati 2022'!BK67+'dati 2022'!BL67 -> 0 | X66: =+'dati 2022'!G67+'dati 2022'!Q67+'dati 2022'!T67+'dati 2022'!X67+'dati 2022'!AS67+'dati 2022'!AU67+'dati 2022'!AV67+'dati 2022'!AW67+'dati 2022'!AX67+'dati 2022'!AT67 -> 1.62
B67: CERVATTO | C67: 52 | D67: =+E67+F67 -> 38.671 | E67: =+'dati 2022'!BG68+'dati 2022'!BH68 -> 26.07 | F67: =+K67+L67+M67+N67+O67+P67+Q67+R67+S67+T67+U67+V67+W67+X67 -> 12.601 | G67: =+F67/D67 -> 0.32585141 | H67: =+((D67*1000)/C67)/365 -> 2.0374605 | I67: =+((E67*1000)/C67)/365 -> 1.3735511 | J67: =+((F67*1000)/C67)/365 -> 0.66390938 | K67: 0 | L67: =+'dati 2022'!AL68+'dati 2022'!AM68+'dati 2022'!AN68 -> 0 | M67: =+'dati 2022'!BD68 -> 0.8 | N67: =+'dati 2022'!I68+'dati 2022'!AJ68 -> 4.12 | O67: =+'dati 2022'!J68+'dati 2022'!K68 -> 2.482 | P67: =+'dati 2022'!L68+'dati 2022'!BA68 -> 0.04 | Q67: =+'dati 2022'!M68+'dati 2022'!BC68 -> 0.035 | R67: =+'dati 2022'!O68 -> 0 | S67: =+'dati 2022'!P68+'dati 2022'!AK68 -> 2.87 | T67: =+'dati 2022'!AO68+'dati 2022'!AP68 -> 0 | U67: =+'dati 2022'!BO68+'dati 2022'!AY68+'dati 2022'!AZ68+'dati 2022'!AQ68+'dati 2022'!AR68+'dati 2022'!V68 -> 2.189 | V67: =+'dati 2022'!AG68 -> 0.02 | W67: =+'dati 2022'!BK68+'dati 2022'!BL68 -> 0 | X67: =+'dati 2022'!G68+'dati 2022'!Q68+'dati 2022'!T68+'dati 2022'!X68+'dati 2022'!AS68+'dati 2022'!AU68+'dati 2022'!AV68+'dati 2022'!AW68+'dati 2022'!AX68+'dati 2022'!AT68 -> 0.045
B68: CIVIASCO | C68: 239 | D68: =+E68+F68 -> 75.07 | E68: =+'dati 2022'!BG69+'dati 2022'!BH69 -> 27.29 | F68: =+K68+L68+M68+N68+O68+P68+Q68+R68+S68+T68+U68+V68+W68+X68 -> 47.78 | G68: =+F68/D68 -> 0.63647263 | H68: =+((D68*1000)/C68)/365 -> 0.86054909 | I68: =+((E68*1000)/C68)/365 -> 0.31283315 | J68: =+((F68*1000)/C68)/365 -> 0.54771594 | K68: 0 | L68: =+'dati 2022'!AL69+'dati 2022'!AM69+'dati 2022'!AN69 -> 0.56 | M68: =+'dati 2022'!BD69 -> 0.83 | N68: =+'dati 2022'!I69+'dati 2022'!AJ69 -> 8.545 | O68: =+'dati 2022'!J69+'dati 2022'!K69 -> 6.59 | P68: =+'dati 2022'!L69+'dati 2022'!BA69 -> 6.845 | Q68: =+'dati 2022'!M69+'dati 2022'!BC69 -> 1.57 | R68: =+'dati 2022'!O69 -> 0 | S68: =+'dati 2022'!P69+'dati 2022'!AK69 -> 12.71 | T68: =+'dati 2022'!AO69+'dati 2022'!AP69 -> 0.03 | U68: =+'dati 2022'!BO69+'dati 2022'!AY69+'dati 2022'!AZ69+'dati 2022'!AQ69+'dati 2022'!AR69+'dati 2022'!V69 -> 6.15 | V68: =+'dati 2022'!AG69 -> 2.875 | W68: =+'dati 2022'!BK69+'dati 2022'!BL69 -> 0 | X68: =+'dati 2022'!G69+'dati 2022'!Q69+'dati 2022'!T69+'dati 2022'!X69+'dati 2022'!AS69+'dati 2022'!AU69+'dati 2022'!AV69+'dati 2022'!AW69+'dati 2022'!AX69+'dati 2022'!AT69 -> 1.075
B69: CRAVAGLIANA | C69: 252 | D69: =+E69+F69 -> 136.794 | E69: =+'dati 2022'!BG70+'dati 2022'!BH70 -> 62.74 | F69: =+K69+L69+M69+N69+O69+P69+Q69+R69+S69+T69+U69+V69+W69+X69 -> 74.054 | G69: =+F69/D69 -> 0.54135415 | H69: =+((D69*1000)/C69)/365 -> 1.4872146 | I69: =+((E69*1000)/C69)/365 -> 0.68210481 | J69: =+((F69*1000)/C69)/365 -> 0.80510981 | K69: 0 | L69: =+'dati 2022'!AL70+'dati 2022'!AM70+'dati 2022'!AN70 -> 0 | M69: =+'dati 2022'!BD70 -> 1.41 | N69: =+'dati 2022'!I70+'dati 2022'!AJ70 -> 12.375 | O69: =+'dati 2022'!J70+'dati 2022'!K70 -> 7.32 | P69: =+'dati 2022'!L70+'dati 2022'!BA70 -> 7.975 | Q69: =+'dati 2022'!M70+'dati 2022'!BC70 -> 2.495 | R69: =+'dati 2022'!O70 -> 0 | S69: =+'dati 2022'!P70+'dati 2022'!AK70 -> 28.45 | T69: =+'dati 2022'!AO70+'dati 2022'!AP70 -> 0 | U69: =+'dati 2022'!BO70+'dati 2022'!AY70+'dati 2022'!AZ70+'dati 2022'!AQ70+'dati 2022'!AR70+'dati 2022'!V70 -> 9.115 | V69: =+'dati 2022'!AG70 -> 3.42 | W69: =+'dati 2022'!BK70+'dati 2022'!BL70 -> 0 | X69: =+'dati 2022'!G70+'dati 2022'!Q70+'dati 2022'!T70+'dati 2022'!X70+'dati 2022'!AS70+'dati 2022'!AU70+'dati 2022'!AV70+'dati 2022'!AW70+'dati 2022'!AX70+'dati 2022'!AT70 -> 1.494
B70: FOBELLO | C70: 185 | D70: =+E70+F70 -> 113.967 | E70: =+'dati 2022'!BG71+'dati 2022'!BH71 -> 48.88 | F70: =+K70+L70+M70+N70+O70+P70+Q70+R70+S70+T70+U70+V70+W70+X70 -> 65.087 | G70: =+F70/D70 -> 0.57110392 | H70: =+((D70*1000)/C70)/365 -> 1.6877749 | I70: =+((E70*1000)/C70)/365 -> 0.72388004 | J70: =+((F70*1000)/C70)/365 -> 0.96389485 | K70: 0 | L70: =+'dati 2022'!AL71+'dati 2022'!AM71+'dati 2022'!AN71 -> 0 | M70: =+'dati 2022'!BD71 -> 1.07 | N70: =+'dati 2022'!I71+'dati 2022'!AJ71 -> 9.265 | O70: =+'dati 2022'!J71+'dati 2022'!K71 -> 4.04 | P70: =+'dati 2022'!L71+'dati 2022'!BA71 -> 9.26 | Q70: =+'dati 2022'!M71+'dati 2022'!BC71 -> 2.815 | R70: =+'dati 2022'!O71 -> 0 | S70: =+'dati 2022'!P71+'dati 2022'!AK71 -> 26.408 | T70: =+'dati 2022'!AO71+'dati 2022'!AP71 -> 0 | U70: =+'dati 2022'!BO71+'dati 2022'!AY71+'dati 2022'!AZ71+'dati 2022'!AQ71+'dati 2022'!AR71+'dati 2022'!V71 -> 11.278 | V70: =+'dati 2022'!AG71 -> 0.63 | W70: =+'dati 2022'!BK71+'dati 2022'!BL71 -> 0 | X70: =+'dati 2022'!G71+'dati 2022'!Q71+'dati 2022'!T71+'dati 2022'!X71+'dati 2022'!AS71+'dati 2022'!AU71+'dati 2022'!AV71+'dati 2022'!AW71+'dati 2022'!AX71+'dati 2022'!AT71 -> 0.321
... B82: VOCCA | C82: 158 | D82: =+E82+F82 -> 52.899 | E82: =+'dati 2022'!BG83+'dati 2022'!BH83 -> 20.13 | F82: =+K82+L82+M82+N82+O82+P82+Q82+R82+S82+T82+U82+V82+W82+X82 -> 32.769 | G82: =+F82/D82 -> 0.61946351 | H82: =+((D82*1000)/C82)/365 -> 0.91727068 | I82: =+((E82*1000)/C82)/365 -> 0.34905497 | J82: =+((F82*1000)/C82)/365 -> 0.56821571 | K82: 0 | L82: =+'dati 2022'!AL83+'dati 2022'!AM83+'dati 2022'!AN83 -> 1.98 | M82: =+'dati 2022'!BD83 -> 0.81 | N82: =+'dati 2022'!I83+'dati 2022'!AJ83 -> 4.163 | O82: =+'dati 2022'!J83+'dati 2022'!K83 -> 3.22 | P82: =+'dati 2022'!L83+'dati 2022'!BA83 -> 7.38 | Q82: =+'dati 2022'!M83+'dati 2022'!BC83 -> 1.775 | R82: =+'dati 2022'!O83 -> 0 | S82: =+'dati 2022'!P83+'dati 2022'!AK83 -> 7.14 | T82: =+'dati 2022'!AO83+'dati 2022'!AP83 -> 0.45 | U82: =+'dati 2022'!BO83+'dati 2022'!AY83+'dati 2022'!AZ83+'dati 2022'!AQ83+'dati 2022'!AR83+'dati 2022'!V83 -> 3.795 | V82: =+'dati 2022'!AG83 -> 1.645 | W82: =+'dati 2022'!BK83+'dati 2022'!BL83 -> 0 | X82: =+'dati 2022'!G83+'dati 2022'!Q83+'dati 2022'!T83+'dati 2022'!X83+'dati 2022'!AS83+'dati 2022'!AU83+'dati 2022'!AV83+'dati 2022'!AW83+'dati 2022'!AX83+'dati 2022'!AT83 -> 0.411
B83: TOTALE | C83: =SUM(C59:C82) -> 7991 | D83: =SUM(D2:D82) -> 47094.966 | E83: =SUM(E2:E82) -> 16348.694 | F83: =SUM(F2:F82) -> 30746.273 | G83: =+F83/D83 -> 0.65285688 | H83: =+((D83*1000)/C83)/365 -> 16.146578 | I83: =+((E83*1000)/C83)/365 -> 5.6051735 | J83: =+((F83*1000)/C83)/365 -> 10.541405 | K83: =SUM(K2:K82) -> 0 | L83: =SUM(L2:L82) -> 6078.018 | M83: =SUM(M2:M82) -> 4904.66 | N83: =SUM(N2:N82) -> 5291.313 | O83: =SUM(O2:O82) -> 2728.834 | P83: =SUM(P2:P82) -> 1855.726 | Q83: =SUM(Q2:Q82) -> 200.4654 | R83: =SUM(R2:R82) -> 0 | ... X83: =SUM(X2:X82) -> 131.073
B86: NB. I dati pubblicati sono da intendersi provvisori in quanto:
B87: A.Possono non essere conteggiati alcuni dati riferiti ai rifiuti raccolti presso i C.C.R
B88: B.Sono soggetti al controllo e all'approvazione ufficiale da parte della regione Piemonte ai sensi della D.G.R. n° 15-5870 del 03/11/2017 S.M. e I.
B89: C. Non sono stati conteggiati i dati del Comune di Borgosesia in quanto mancanti
B90: D. Non sono stati conteggiati i dati riguardanti il compostaggio domestico perché in fase di aggiornamento
